BEGIN:VCALENDAR
VERSION:2.0
PRODID:karlsunruh.org
METHOD:REQUEST
BEGIN:VEVENT
UID:68aac770-a2d8-42d1-ab22-9f8c89ffce77
URL:https://karlsunruh.org/event/68aac770-a2d8-42d1-ab22-9f8c89ffce77
SUMMARY:Z10 Sommerfest 2025
DTSTART:20250627T170000Z
DTEND:20250627T210000Z
CATEGORIES:Party\,Sonstiges
DESCRIPTION:Unser Sommerfest 2025 findet dieses Jahr an drei Tagen statt.
  Zusätzlich zu den alljährlichen Freitags- und Samstagskonzerten könnt
  Ihr Euch dieses Jahr schon auf einen Theatertag am Donnerstag freuen! Wie
  immer mit einer Open-Air Bühne im Garten\, Cocktail-\, Aperol- und
  Bierstand. Bei jeder Z10 Veranstaltung gilt: Eintritt natürlich
  Frei!\n\nEinlass jeweils ab 18 Uhr
LOCATION:Z10
GEO:49.0085647;8.4140799
ORGANIZER:mailto:Z10
END:VEVENT
END:VCALENDAR
