BEGIN:VCALENDAR
VERSION:2.0
PRODID:karlsunruh.org
METHOD:REQUEST
BEGIN:VEVENT
UID:69018a20-ecf7-46c1-9768-45635b484172
URL:https://karlsunruh.org/event/69018a20-ecf7-46c1-9768-45635b484172
SUMMARY:Care Café + Lese-Insel Junges Staatstheater
DTSTART:20250718T140000Z
DTEND:20250718T170000Z
CATEGORIES:Sonstiges\,Sonstiges
DESCRIPTION:Das Care Café ist ein offener Raum für Kinder jeden Alters
  und ihre Bezugspersonen – Eltern\, Erziehende\, Freund*innen. \nEinmal
  im Monat treffen wir uns im Café Noir in Karlsruhe\, um zu spielen\, uns
  auszutauschen und einfach gemeinsam Zeit zu verbringen. Wir wollen
  Verbindungen schaffen und glauben an ein solidarisches Miteinander. So
  soll Raum entstehen für alternative Vorstellungen davon\, wie wir leben
  und füreinander da sein können.\nAlle Menschen sind willkommen –
  unabhängig von Alter\, Herkunft oder Lebensweise. Getränke und Waffeln
  gibt es immer (gegen Spende)\, und wer mag\, kann gern etwas fürs Buffet
  mitbringen.\nDas Care Café ist ein Ort für Begegnung\, Wärme und
  gegenseitige Unterstützung – gegen Vereinzelung\, gegen Ausgrenzung\,
  für ein gutes Leben für alle.\n\n\n\nInfos zur Barrierefreiheit:\n\nDas
  Café Noir ist ebenerdig zugänglich. Eine barrierefreie Toilette steht
  zur Verfügung dort ist auch ein Wickeltisch vorhanden. Es stehen
  verschiedene Sitzgelegenheiten zur Verfügung.\n\nDas Café Noir ist
  über die Haltestellen Windeckstraße und Hardecksiedlung zu
  erreichen.\n\nWenn du Unterstützung bei der Anreise oder Gestaltung
  deines Besuchs haben möchtest\, schreibe uns gerne eine Mail
  an:\ncafe-noir@riseup.net
LOCATION:Café Noir\, Schauenburgstraße 5\, 76135 Karlsruhe
GEO:48.98860975680665;8.372009074104096
ORGANIZER:mailto:Café Noir
END:VEVENT
END:VCALENDAR
