BEGIN:VCALENDAR
VERSION:2.0
PRODID:karlsunruh.org
METHOD:REQUEST
BEGIN:VEVENT
UID:6fff97d8-af1c-4897-957c-832e30e29cfd
URL:https://karlsunruh.org/event/6fff97d8-af1c-4897-957c-832e30e29cfd
SUMMARY:HURT HEAL GLOW - Interaktive Lesung mit Judence Kayitesi
DTSTART:20251211T180000Z
CATEGORIES:Workshop\,Antirassismus
DESCRIPTION:Wie entsteht Ausgrenzung und wohin kann eine Spaltung der
  Gesellschaft führen?\nDiese und weitere Fragen diskutieren wir gemeinsam
  mit Judence Kayitesi anhand ihres Arbeitsbuches „Suche nach der
  Einheit“. Die Autorin ist Zeitzeugin und Überlebende des Genozids an
  den Tutsi 1994 in Ruanda. Durch ihre Bücher lässt sie uns an ihren
  Erlebnissen und Erkenntnissen teilhaben. \nEin Abend voller Austausch\,
  Reflexion und Empowerment – für mehr Zusammenhalt in unserer
  Gesellschaft. Die Lesung findet in Deutsch und Englisch
  statt.\nInteractive reading with Judence Kayitesi \nHow does exclusion
  arise\, and where can a division of society lead? \nWe will discuss these
  and other questions with Judence Kayitesi\, based on her workbook "the
  unity quest." The author is an eyewitness and survivor of the genocide
  against the Tutsi 1994 in Rwanda. Through her books\, she shares her
  experiences and findings with us. \nAn evening full of exchange\,
  reflection\, and empowerment—for greater cohesion in our society. The
  reading will be held in german and english.\n
LOCATION:Cola Taxi Okay\, Kronenstraße 25\, 76131 Karlsruhe
GEO:49.008172;8.4095862
ORGANIZER:mailto:GloW Karlsruhe e.V.
END:VEVENT
END:VCALENDAR
