BEGIN:VCALENDAR
VERSION:2.0
PRODID:karlsunruh.org
METHOD:REQUEST
BEGIN:VEVENT
UID:70586813-134e-442b-9e45-7c67505d620d
URL:https://karlsunruh.org/event/70586813-134e-442b-9e45-7c67505d620d
SUMMARY:RING DING DONG
DTSTART:20251207T130000Z
DTEND:20251207T180000Z
CATEGORIES:Sonstiges\,Sonstiges
DESCRIPTION:RING DING DONG\nSo. 07.12\, 14-19 Uhr\n\nRING DING DONG\, das
  COLA TAXI OKAY wird wieder zum Weihnachtsbasar! Mit Souvenirständen\,
  einem bunten Bastelangebot\, leckeren Speisen und allerlei
  winterlich-weihnachtlichem - eine gute Gelegenheit\, sich selbst und
  andere zu beschenken oder einfach in festliche Stimmung zu
  kommen!\n\nRING DING DONG \nSunday 07.12\, 2 p.m.-7p.m.\n\nRING DING
  DONG\, the COLA TAXI OKAY turns into a Christmas bazaar again! With
  souvenir stalls\, a colorful range of handicrafts\, delicious food and
  all sorts of wintery and Christmassy things - a great opportunity to
  spoil yourself and others or simply get into the festive spirit!\n\nRING
  DING DONG\nالأحد، 01 ديسمبر، من الساعة 14:00 الى
  19:00\nرينغ دينغ دونغ، COLA TAXI OKAY تتحول
  مجدداً إلى بازار عيد الميلاد! مع أكشاك
  للهدايا التذكارية، مجموعة متنوعة من
  الأشغال اليدوية الملونة، أطباق شهية،
  والكثير من الأجواء الشتوية والميلادية -
  فرصة رائعة لإهداء نفسك والآخرين أو
  ببساطة للاستمتاع بروح عيد الميلاد
  الشتوية!
LOCATION:Cola Taxi Okay\, Kronenstraße 25\, 76131 Karlsruhe
GEO:49.008172;8.4095862
ORGANIZER:mailto:Cola Taxi Okay
END:VEVENT
END:VCALENDAR
