BEGIN:VCALENDAR
VERSION:2.0
PRODID:karlsunruh.org
METHOD:REQUEST
BEGIN:VEVENT
UID:738fb084-67c0-4774-935f-3d68bff2cd49
URL:https://karlsunruh.org/event/738fb084-67c0-4774-935f-3d68bff2cd49
SUMMARY:TALK WITH THEM
DTSTART:20251210T173000Z
DTEND:20251210T193000Z
CATEGORIES:Sonstiges\,Sonstiges
DESCRIPTION:Mit uns statt über uns.\n\nGemeinsam mit @Mifor_ka laden wir
  zu einem syrischen Abend ein – mit Film & Podiumsdiskussion.\nWir
  sprechen über Realität\, Wiederaufbau und Zukunftsperspektiven
  –\nnicht über Betroffene\, sondern mit ihnen.\n\nSei dabei\, hör zu
  und teile diesen Beitrag.\nLasst uns die Stimmen stärken\, die gehört
  werden müssen.\n\nWith us\, not about us.\n\nTogether with @Mifor_ka\,
  we’re hosting a Syrian Evening with a film screening and panel
  discussion.\nWe speak about reality\, reconstruction\, and future
  perspectives –\nnot about those affected\, but with them.\n\nJoin us\,
  listen\, and share this post.\nLet’s amplify the voices that
  matter!\n\nبالتعاون مع @Mifor_ka نقدّم أمسية
  سورية مع عرض فيلم وحوار.\nنتحدث عن
  الواقع، وإعادة الإعمار، وآفاق المستقبل
  –\nليس عن المتأثرين بالأمر، بل
  معهم.\n كونوا معنا، استمعوا، وشارِكوا
  هذا المنشور.\nلِنرفع الأصوات التي يجب أن
  تُسمَع.
LOCATION:Cola Taxi Okay\, Kronenstraße 25\, 76131 Karlsruhe
GEO:49.008172;8.4095862
ORGANIZER:mailto:Cola Taxi Okay
END:VEVENT
END:VCALENDAR
