BEGIN:VCALENDAR
VERSION:2.0
PRODID:karlsunruh.org
METHOD:REQUEST
BEGIN:VEVENT
UID:7573bfde-bd9c-499a-bdaa-c9d550c14b77
URL:https://karlsunruh.org/event/7573bfde-bd9c-499a-bdaa-c9d550c14b77
SUMMARY:Esolangs as Hacker Folk-Art and Computational Resistance
DTSTART:20260207T190000Z
CATEGORIES:Vortrag\,Kultur
DESCRIPTION:Building on the Friday night presentation of Forty-Four
  Esolangs at ZKM
  (https://zkm.de/en/2026/02/daniel-temkin-forty-four-esolangs)\, this is a
  deeper dive into esolangs as a community-based form. We’ll look at
  esolangs as a dialogue between the esolangers who make them and the
  esoprogrammers who expand how they can be used\, and make their own
  discoveries about the languages. In this moment\, when AI tools reinforce
  a bland\, corporatized monoculture of code\, esolangs remind us that we
  can create our own alternatives\, to address not only how code reads but
  who it is for. There will be opportunities to answer questions about the
  technical side of language design and to share ideas or
  works-in-progress.\n\nYou can find more information about the weekly open
  sessions program at Entropia here: https://entropia.de/Open_Sessions\n
LOCATION:Gewerbehof\, Steinstraße 23 \,76133 Karlsruhe
GEO:49.006649;8.4073768
ORGANIZER:mailto:Entropia e.V.
END:VEVENT
END:VCALENDAR
