BEGIN:VCALENDAR
VERSION:2.0
PRODID:karlsunruh.org
METHOD:REQUEST
BEGIN:VEVENT
UID:76238ba8-9b5e-462b-94b3-453866d4db57
URL:https://karlsunruh.org/event/76238ba8-9b5e-462b-94b3-453866d4db57
SUMMARY:RONG KONG KOMA + WAX BIRD
DTSTART:20260509T180000Z
DTEND:20260509T200000Z
CATEGORIES:Konzert\,Kultur
DESCRIPTION:Zu verspielt für Punk\, zu dreckig für Indie\, zu wütend
  für Pop – das sind RONG KONG KOMA.\nReibeisenstimme und treibendes
  Schlagzeug treffen in Hochspannung auf filigran-ballernde Gitarren und
  einen hüpfenden Bass.\n„Die härteste Band im Pop. Die softeste Band
  im Punk. Sie sind all das\, was andere Bands nicht sein wollen.
  Eingängige Songs\, maximal schrammelig und punkig gespielt. Ohrwürmer
  mit Ecken und Kanten. Dazu rotzfreche Texte\, für die man jederzeit eine
  Tracht Prügel kassieren könnte – oder eine Umarmung.“ (OX)\nRong
  Kong Koma sind eine hochenergetische\, bunte Live-Band mit komplexen
  Violent-Pop-Superpower-Songs aus Berlin.\nDavor WAX BIRD.\nWax Bird ist
  ein trans* fronted Rage-Pop-Trio aus Karlsruhe\, das seit 2018 aktiv ist.
  Das allererste Konzert der Band fand im KOHI statt — umso schöner ist
  es für sie jedes Mal\, dorthin zurückzukehren und wieder auf der Bühne
  zu stehen. Bisher hat Wax Bird zwei EPs veröffentlicht und arbeitet
  aktuell an einer dritten. Musikalisch verbindet die Band Garage Rock\,
  Alternative und Punk mit kritischen\, energiegeladenen Texten. Mit
  Charlie (Gesang/Bass)\, Markus (Gitarre) und Rouven (Drums) steht Wax
  Bird für eine laute\, kompromisslose
  Live-Energie.\nhttps://www.instagram.com/wax_bird_official/\nEinlass: 19
  Uhr\, Beginn: 20 Uhr
LOCATION:Kohi\, Werderstr. 47\, 76137 Karlsruhe
GEO:49.0016763;8.407540161512713
ORGANIZER:mailto:Kohi
END:VEVENT
END:VCALENDAR
