BEGIN:VCALENDAR
VERSION:2.0
PRODID:karlsunruh.org
METHOD:REQUEST
BEGIN:VEVENT
UID:769c4db6-5daf-4b18-b13f-4c1012b083d0
URL:https://karlsunruh.org/event/769c4db6-5daf-4b18-b13f-4c1012b083d0
SUMMARY:KONZERT: The Let's Go's
DTSTART:20250919T180000Z
CATEGORIES:Konzert\,Kultur
DESCRIPTION:Fr\, 19.09.2025\nKONZERT: The Let's Go's\nKonzert präsentiert
  von SAU e.V.\nEinlass: 20:00 Uhr | Beginn: 21:00 Uhr\n\n\nTHE LET’S
  GO’s ist eine dreiköpfige Frauenband\, gegründet von COCO (Gitarre
  und Gesang) in Tokio.\n\nZwar bilden Punk und Rock’n’Roll der 70er
  und 80er Jahre das Herzstück ihrer Musik\, doch ihr farbenfroher\,
  eingängiger Sound zieht die Menschen in ihren Bann. Nach mehreren
  Besetzungswechseln stieß MARIKO MARIKO 2018 am Schlagzeug zur Band\,
  gefolgt von MANAMI am Bass im Jahr 2022.\n\nMit eingängigen Pop-Melodien
  und direkten japanischen Texten – getragen von COCOs wilder
  Rock’n’Roll-Gitarre\, MANAMIs melodischem\, aber punkigem Bassspiel
  und MARIKO MARIKOs dynamischem Schlagzeug – entsteht ein Sound\, der
  klassisch verwurzelt und gleichzeitig unverwechselbar originell ist.
LOCATION:Alte Hackerei\, Alter Schlachthof 11a\, 76131 Karlsruhe
GEO:49.0055385;8.4291958
ORGANIZER:mailto:Alte Hackerei
END:VEVENT
END:VCALENDAR
