BEGIN:VCALENDAR
VERSION:2.0
PRODID:karlsunruh.org
METHOD:REQUEST
BEGIN:VEVENT
UID:78f42285-2247-40f3-b241-f51fe0137f8e
URL:https://karlsunruh.org/event/78f42285-2247-40f3-b241-f51fe0137f8e
SUMMARY:Algorithmic patterns - listening workshop
DTSTART:20260430T160000Z
DTEND:20260430T173000Z
CATEGORIES:Workshop\,Kultur
DESCRIPTION:People have danced to algorithms throughout history\, including
  the Ancient Greeks. Epiploke is such an algorithm\, evident in fragments
  of Ancient Greek texts\, where metrical short-long structure is shifted
  in patterns. \n\nIn this workshop run by Lucy and Alex who perform
  together as the band Epiploke\, we will explore different musical
  patterns by listening to and manipulating simple code examples in the
  free\, web-based Strudel software. This will include polymetrical
  structures\, euclidian rhythms\, South Indian konnakol and bharatanatyam
  rhythms\, ancient greek hexameters\, and other strange patterns. The aim
  will be to understand algorithmic music with a focus on listening to
  patterns rather than understanding them as code. \n\nThe workshop is
  aimed at anyone curious about the stranger side of musical patterns. You
  do not need any experience in music or coding\, and people who feel like
  'imposters' are especially welcomed to join. If you are new to live
  coding you will hopefully leave motivated to learn more. If you have live
  coded before you will hopefully leave with new understanding of your
  practice.  
LOCATION:Gewerbehof\, Steinstraße 23 \,76133 Karlsruhe
GEO:49.006649;8.4073768
ORGANIZER:mailto:Entropia e.V.,TOPLAP,Haecksen Karlsruhe
END:VEVENT
END:VCALENDAR
