BEGIN:VCALENDAR
VERSION:2.0
PRODID:karlsunruh.org
METHOD:REQUEST
BEGIN:VEVENT
UID:7b2beedc-76b1-401f-9e09-ce3ca8343cc2
URL:https://karlsunruh.org/event/7b2beedc-76b1-401f-9e09-ce3ca8343cc2
SUMMARY:Oliver Nachtwey stellt vor: "Zerstörungslust" -Elemente des
  demokratischen Faschismus-
DTSTART:20260210T180000Z
DTEND:20260210T200000Z
CATEGORIES:Konzert\,Kultur
DESCRIPTION:Doors 19.00 // Buchvorstellung 20.00 // Tickets: \nDonald Trump
  versprach vor seiner erneuten Wahl\, die liberale Demokratie aus den
  Angeln zu heben. Er wurde nicht trotz\, sondern wegen dieses Versprechens
  gewählt. In ihrem Bestseller Gekränkte Freiheit zeigten Carolin
  Amlinger und Oliver Nachtwey\, wie Libertarismus und Autoritarismus
  miteinander verschmelzen könnten. Zwei Jahre später hat die Realität
  ihre soziologische Diagnose auf bedrückende Weise bestätigt. Nun
  befassen sie sich mit den Wähler und Followern von Trump\, Musk sowie
  der AfD.\nWoher diese Lust an der Zerstörung? Und warum folgen so viele
  Bürger:innen den libertären Autoritären in den selbstgewählten
  Faschismus? Auf der Grundlage umfangreicher empirischer Forschungen\,
  darunter einer Vielzahl ausführlicher Interviews\, u. a. mit
  AfD-Anhängern und Mitgliedern libertärer Vereinigungen\, entwickeln
  Amlinger und Nachtwey eine Erklärung: Im Kern richtet sich diese Revolte
  gegen die Blockade liberaler Gesellschaften\, die ihre Versprechen auf
  Aufstieg und Emanzipation nicht mehr einlösen.\nIn diesem Sinne geht es
  Trump\, Musk\, Weidel und ihren Anhänger:innen\, schließen die beiden
  mit Erich Fromm\, um die Zerstörung der Welt als letzten\, verzweifelten
  Versuch\, sich davor zu retten\, von ihr zermalmt zu werden. 
LOCATION:p8\, Schauenburgstraße 5\, 76135 Karlsruhe
GEO:48.9887950677221;8.372030230380888
ORGANIZER:mailto:p8
END:VEVENT
END:VCALENDAR
