BEGIN:VCALENDAR
VERSION:2.0
PRODID:karlsunruh.org
METHOD:REQUEST
BEGIN:VEVENT
UID:7ccab1da-6de1-47c4-9149-71784f63626c
URL:https://karlsunruh.org/event/7ccab1da-6de1-47c4-9149-71784f63626c
SUMMARY:Lydia Lunch & Marc Hurtado: Playing SUICIDE and Alan Vega + LATEX
DTSTART:20260121T180000Z
DTEND:20260121T200000Z
CATEGORIES:Konzert\,Kultur
DESCRIPTION:𝗘𝗶𝗻 𝗔𝗯𝗲𝗻𝗱 𝗶𝗺
  𝗭𝗲𝗶𝗰𝗵𝗲𝗻 𝗱𝗲𝘀 𝗡𝗲𝘄
  𝗬𝗼𝗿𝗸𝗲𝗿 𝗨𝗻𝗱𝗲𝗿𝗴𝗿𝗼𝘂𝗻𝗱𝘀
  𝗱𝗲𝗿 1970𝗲𝗿- 𝘂𝗻𝗱
  1980𝗲𝗿-𝗝𝗮𝗵𝗿𝗲: 𝗟𝘆𝗱𝗶𝗮
  𝗟𝘂𝗻𝗰𝗵\, 𝗜𝗸𝗼𝗻𝗲 𝗱𝗲𝘀 𝗡𝗼
  𝗪𝗮𝘃𝗲\, 𝘂𝗻𝗱 𝗱𝗲𝗿
  𝗳𝗿𝗮𝗻𝘇ö𝘀𝗶𝘀𝗰𝗵𝗲
  𝗘𝘅𝗽𝗲𝗿𝗶𝗺𝗲𝗻𝘁𝗮𝗹𝗺𝘂𝘀𝗶𝗸𝗲
 𝗿 𝗠𝗮𝗿𝗰 𝗛𝘂𝗿𝘁𝗮𝗱𝗼
  𝗳𝗲𝗶𝗲𝗿𝗻 𝗱𝗶𝗲 𝗠𝘂𝘀𝗶𝗸 𝘃𝗼𝗻
  𝗠𝗮𝗿𝘁𝗶𝗻 𝗥𝗲𝘃 𝘂𝗻𝗱 𝗔𝗹𝗮𝗻
  𝗩𝗲𝗴𝗮\, 𝗱𝗶𝗲 𝗮𝗹𝘀 𝗦𝘂𝗶𝗰𝗶𝗱𝗲
  𝗾𝘂𝗮𝘀𝗶 𝗶𝗺 𝗔𝗹𝗹𝗲𝗶𝗻𝗴𝗮𝗻𝗴
  𝗲𝗶𝗻𝗲 𝗲𝗹𝗲𝗸𝘁𝗿𝗼𝗻𝗶𝘀𝗰𝗵𝗲
  𝗙𝗼𝗿𝗺 𝗱𝗲𝘀 𝗣𝗿𝗼𝘁𝗼-𝗣𝘂𝗻𝗸𝘀
  𝗮𝘂𝘀 𝗱𝗲𝗺 𝗡𝗶𝗰𝗵𝘁𝘀
  𝗽𝗲𝗶𝘁𝘀𝗰𝗵𝘁𝗲𝗻. 𝗜𝗵𝗿𝗲
  𝗱𝘂𝗻𝗸𝗲𝗹-𝗺𝗼𝗻𝗼𝘁𝗼𝗻𝗲𝗻
  𝗥𝗵𝘆𝘁𝗵𝗺𝗲𝗻 𝘂𝗻𝗱 𝗲𝗶𝗻
  𝗰𝗼𝗼𝗹𝗲𝗿 𝗠𝗶𝗻𝗶𝗺𝗮𝗹𝗶𝘀𝗺𝘂𝘀
  𝘄𝗶𝗿𝗸𝗲𝗻 𝗯𝗶𝘀 𝗵𝗲𝘂𝘁𝗲
  𝗻𝗮𝗰𝗵.\n𝗟𝘆𝗱𝗶𝗮 𝗟𝘂𝗻𝗰𝗵 is a nomadic
  gypsy in eternal metamorphosis that almost lost her life for her art
  dozens of times in 35 years. Musician\, writer\, photographer and
  performance artist\, she appeared in the New York music scene in 1977
  with the project founder No Wave\, Teenage Jesus and the Jerks. In search
  of inspiration and cooperation she worked with Karen Finley\, Hubert
  Selby Jr\, Nick Cave\, William Burroughs or Virginie Despentes\, she
  lived in New York\, Brooklyn\, New Orleans\, San Francisco\, Pittsburgh\,
  Los Angeles\, London. She has visited 656 cities to perform on stage for
  concerts\, spoken word\, installations in clubs\, theaters and
  museums.\n𝗠𝗮𝗿𝗰 𝗛𝘂𝗿𝘁𝗮𝗱𝗼 is a musician\,
  performer\, poet\, painter\, producer and filmmaker who co-founded the
  French duo Etant Donnés with his brother Eric in 1977. He has made more
  than 20 albums and concerts around the world in places like Kitchen (New
  York)\, the Fondation Cartier (Paris)\, the Centre Pompidou (Paris)\, the
  Sonar Festival (Barcelona)\, the Atonal Festival (Berlin)\, or
  Transmusicales (Rennes). Apart from this duo and solo project Sol Ixent\,
  he has collaborated with many cult figures including Alan Vega\, Genesis
  P.Orridge\, Michael Gira (Swans)\, Gabi Delgado (DAF)\, Craig Walker
  (Archive) \, Pascal Comelade\, Z'ev\, Philippe Grandrieux\, Christophe\,
  Saba Komossa (Delkom)\, Mark Cunningham (MARS)\, Bachir Attar and the
  Master Musicians of Jajouka.\n𝗟𝘆𝗱𝗶𝗮 𝗟𝘂𝗻𝗰𝗵
  has crossed paths with 𝗔𝗹𝗮𝗻 𝗩𝗲𝗴𝗮 𝗮𝗻𝗱
  𝗠𝗮𝗿𝘁𝗶𝗻 𝗥𝗲𝘃 when she arrived in New York aged
  16 in the late 70s. She saw them perform as 𝗦𝘂𝗶𝗰𝗶𝗱𝗲
  a collision of avant-garde performance art and minimalistic rock\, that
  pre-dated punk by a number of years. Lunch has since described the
  performance as "a total show\, theatrical\, free\, violent". Since that
  initial meeting Lunch formed an enduring friendship and a creative
  partnership with Vega and Rev\, performing on stage with Suicide and
  providing additional vocals on the legendary track "Frankie Teardrop"
  which was part of the Suicide debut album\, as well as duetting with Vega
  on "Prison Sacrifice" which featured on the 2010 "Sniper" album from Alan
  Vega & Marc Hurtado.\nSince 2014 Lydia Lunch and Marc Hurtado join forces
  for this event around Suicide and Alan Vega songs... a kind of sonic
  "Blitzkrieg" and a visual shamanic ceremony\, where both artists will
  burn their souls in the volcanic heart of the music of Suicide and Alan
  Vega.\n𝗟𝗔𝗧𝗘𝗫: ist ein Post-Punk-Duo aus Darmstadt\, das
  2022 gegründet\nwurde. Inspiriert von ikonischen 80er-Jahre-Bands wie
  Cocteau Twins\, X-Mal\nDeutschland und The Cure\, verbindet ihr Sound
  atmosphärische Melancholie\nmit treibenden Rhythmen. Anfang 2024
  veröffentlichte die Band ihr Debüt-\nTape über das Indie-Label
  „ICHI ICHI“. Seitdem teilten sie die Bühne mit namhaften\nActs wie
  Ghostwoman\, Poison Ruin\, Pink Turns Blue und Love A und\nbegeisterten
  das Publikum mit ihrem tanzbaren und eindringlichen Sound\,\nder
  Gitarre\, Bass\, Drumcomputer und Synthesizer vereint. Die Sängerin
  verleiht\nden Stücken emotionale Tiefe und verwebt Texte über
  Isolation und inneren\nSchmerz in die dunkle Klanglandschaft der Band.
  \n\n
LOCATION:p8\, Schauenburgstraße 5\, 76135 Karlsruhe
GEO:48.9887950677221;8.372030230380888
ORGANIZER:mailto:p8
END:VEVENT
END:VCALENDAR
