BEGIN:VCALENDAR
VERSION:2.0
PRODID:karlsunruh.org
METHOD:REQUEST
BEGIN:VEVENT
UID:7da24418-dc1f-435b-ac89-5c8a90741084
URL:https://karlsunruh.org/event/7da24418-dc1f-435b-ac89-5c8a90741084
SUMMARY:"Stitches against violence" (Maschen gegen Gewalt: Aktion gegen
  geschlechtsspezifische Gewalt)
DTSTART:20260325T164500Z
DTEND:20260325T184500Z
CATEGORIES:Sonstiges\,Queerfeminismus
DESCRIPTION:Am Mittwoch\, den 25.03. möchten wir uns erneut an der
  weltweiten Strick- und Häkelaktion "stitches against violence"
  beteiligen\, um auf geschlechtsspezifische Gewalt aufmerksam zu
  machen.\n\nDieses Mal wollen wir den Fokus aus gegebenem Anlass auf
  digitale Formen sexualisierter Gewalt richten - fassungslos und wütend
  solidarisieren wir uns mit Collien Fernandes\, die Scham muss die Seite
  wechseln!\n\nFür die Aktion treffen wir uns am Mittwoch\, den 25.03. um
  17:45 Uhr an der Bushaltestelle am Durlacher Tor / Bernardusplatz
  (oberirdisch)\n📍 49°00'33.5"N 8°25'05.5"E
  🪡\nhttps://maps.app.goo.gl/MKXkggGpLwRM31cy7?g_st=atm\nund fahren –
  strickend und häkelnd – ab 18 Uhr mit der Tram 2 über den
  Hauptbahnhof zum Europaplatz.\n\n"Stitches against violence" wurde von
  dem Strickkollektiv (@stitchsipknit) aus Wien ins Leben gerufen und
  findet nun zum dritten Mal statt.\n\nAls Wiedererkennungszeichen könnt
  ihr gerne etwas Rotes\, wie eine rote Mütze oder einen Schal\,
  tragen.\n\nPackt einfach eure Strick- und Häkelnadeln mit ein und los
  gehts! ✊🏾💜🧶\n\n\n✊🏾Um was geht’s genau?\nWir möchten
  auf geschlechtsspezifische Gewalt aufmerksam machen. Diese Gewalt umfasst
  insbesondere Gewalt gegen Frauen* und damit alle Handlungen\, die sich
  gegen eine Frau* richten\, weil sie eine Frau* ist\, und zu
  körperlichen\, sexuellen\, psychischen oder wirtschaftlichen Schäden
  oder Leiden führen. Dazu gehört außerdem auch die Androhung von
  solchen Gewalttaten und auch Gewalt\, die sich gegen trans-\,
  intergeschlechtliche oder nicht-binäre Personen richtet\, aufgrund ihres
  (zugeschriebenen) Geschlechts sowie ihrer
  Geschlechtsidentität.\nGeschlechtsspezifische Gewalt steht im Kontext
  patriarchaler Machtstrukturen. Die Täter sind fast immer Männer und die
  Partner\, Expartner\, Ehemänner\, Väter oder Söhne der Betroffenen.
  Die höchste Eskalationsstufe von geschlechtsspezifischer Gewalt sind
  Femizide – das Töten von Frauen\, trans\, intergeschlechtlichen und
  nicht-binären Personen aufgrund ihres Geschlechts. Fast jeden Tag wird
  in Deutschland ein Femizid
  verübt.\nhttps://gemeinsam-gegen-sexismus.de/glossar-posts/geschlechtssp
 ezifische-gewalt/\n\n🧶 Warum protestieren wir strickend und
  häkelnd?\nHandarbeit\, wie es auch Stricken und Häkeln sind\, steht in
  unserem Protest symbolisch für das Häusliche. Zu Hause sollte für alle
  Personen ein sicherer Ort sein\, allerdings sieht die Realität anders
  aus. Geschlechtsspezifische Gewalt findet häufig im näheren sozialen
  Umfeld und im eigenen Zuhause der betroffenen Personen statt. Indem wir
  mit unserem Protest die private und häusliche Handarbeit in den
  öffentlichen Raum bringen\, wollen wir auf die Gefahr aufmerksam
  machen\, der viele Betroffene in ihrem eigenen Zuhause ausgeliefert sind.
LOCATION:Durlacher Tor (Bushaltestelle) / Bernardusplatz\, dann Tram 2\, 
  (49°00'33.5"N 8°25'05.5"E)
ORGANIZER:mailto:Stitches against violence
END:VEVENT
END:VCALENDAR
