BEGIN:VCALENDAR
VERSION:2.0
PRODID:karlsunruh.org
METHOD:REQUEST
BEGIN:VEVENT
UID:7e44a94a-5f57-4d26-960e-cfc651ec9778
URL:https://karlsunruh.org/event/7e44a94a-5f57-4d26-960e-cfc651ec9778
SUMMARY:Autor*innen-Stammtisch Karlsruhe
DTSTART:20250909T170000Z
DTEND:20250909T180000Z
CATEGORIES:Treffen\,Kultur
DESCRIPTION:Hallo an alle kreativen Schreiberlinge in Karlsruhe und
  Umgebung! Jeden 2. Dienstag im Monat findet im Café Noir ab 19 Uhr der
  Autor*innen-Stammtisch statt und ihr seid herzlich eingeladen! Ob ihr
  euch mit Romanen\, Kurzgeschichten\, Drehbüchern\, Comic-Skripts oder
  etwas anderem beschäftigt ist genauso egal\, wie die Frage ob ihr an
  eurem ersten Werk sitzt\, oder an der nächsten Veröffentlichung
  arbeitet. Alle die sich über Schreiben und erzählen austauschen wollen
  sind willkommen. Wir freuen uns auf euren Besuch! Räume und Toiletten
  sind barrierefrei.An dem Tag gibt es im Café Noir veganes Essen auf
  Spendenbasis.
LOCATION:Café Noir\, Schauenburgstraße 5\, 76135 Karlsruhe
GEO:48.98860975680665;8.372009074104096
ORGANIZER:mailto:Kreativer Stammtisch Karlsruhe
END:VEVENT
END:VCALENDAR
