BEGIN:VCALENDAR
VERSION:2.0
PRODID:karlsunruh.org
METHOD:REQUEST
BEGIN:VEVENT
UID:820b7f27-79e0-49f7-ad4c-4e6383c7041b
URL:https://karlsunruh.org/event/820b7f27-79e0-49f7-ad4c-4e6383c7041b
SUMMARY:PARTY: DJ Heiko
DTSTART:20260321T210000Z
CATEGORIES:Party\,Kultur
DESCRIPTION:Sa\, 21.03.2026\nPARTY: DJ Heiko\nBeginn ab 22:00
  Uhr\n\n\nFernab jeglichen Mainstream- und Hitparadengedudele
  veranstaltete DJ-Legende Heiko in den Endachtzigern und Frühneunzigern
  des letzten Jahrhunderts im damaligen Kultclub Katakombe den
  überregional bekannten undergroundigen Musik-Abend. Diesen lassen wir
  wiederbeleben: es erwarten euch Punk\, Garage\, Beat\, Indie\, Rock &
  Soul und das alles absolut tanzbar!
LOCATION:Alte Hackerei\, Alter Schlachthof 11a\, 76131 Karlsruhe
GEO:49.0055385;8.4291958
ORGANIZER:mailto:Alte Hackerei
END:VEVENT
END:VCALENDAR
