BEGIN:VCALENDAR
VERSION:2.0
PRODID:karlsunruh.org
METHOD:REQUEST
BEGIN:VEVENT
UID:87746117-321c-4961-a4be-8c76e17c43f7
URL:https://karlsunruh.org/event/87746117-321c-4961-a4be-8c76e17c43f7
SUMMARY:Die Leopold Kraus Wellenkapelle + Sound 8 Orchestra
DTSTART:20250430T180000Z
CATEGORIES:Konzert\,Kultur
DESCRIPTION:Oha! Die Leopold Kraus Wellenkapelle ist wieder unterwegs!
  Heute sogar mit dem fulminanten Sound 8 Orchestra.\n\nWir haben keine
  Mühen und Kosten gescheut\, hier und heute einen
  Super-Tanz-in-den-Mai-Abend zu bescheren. Noch Fragen? Ja? Die
  Leopold-Wer-Kapelle???\nSollten Sie tatsächlich zu jenen gehören\, die
  diesem Hidden Champion mit dem etwas gewöhnungsbedürftigen Namen an
  dieser Stelle zum ersten Mal begegnen\, dann dürfte wohl auch Ihnen
  bereits dämmern\, dass es sich bei der Wellenkapelle nicht um das
  nächste große Ding handelt. Und damit liegen Sie goldrichtig. Denn bei
  den Kings of Black Forest Surf werden Sie unter Garantie nicht von
  handzahmen\, hochgepushten Showbiz-Marionetten verarscht. Im Gegenteil!
  Ambitioniert\, ungeniert und beinahe immer geschmackvoll zelebriert
  dieses Freiburger Ausnahmequartett seit mehr als zwei Jahrzehnten in und
  abseits der Metropolen ihre gänzlich eigene Version der Teenager-\,
  Halbstarken- und sonstiger Außenseiter-Musik des letzten Jahrhunderts\,
  welche angesagter ist denn je. Hier wird - und das ganz bestimmt ohne
  Schwimmflügel - in den schwierigen Gewässern von instrumentalem (aber
  teilweise auch gesungenem!) 60s Rock‘n‘Roll sowie extrem tanzbarem
  60s Beat & Surf ziemlich weit rausgeschwommen\, wobei in so mancher
  Heckwelle auch immer wieder mal ein Schuss 70s Kraut(-Saft) mit
  aufspritzt. Wie bitte? Das gehe doch gar nicht alles zusammen\, sagen
  Sie? Doch das geht. Und
  wie!\nhttps://leopold-kraus-wellenkapelle.de\n\nDavor kommt Matthias
  Wyder und das Sound 8 Orchestra. Die Musik spannt die Genres Easy
  Listening\, Low Budget Lounge Music\, retro-futuristische
  B-Movie-Soundtracks und psychedelische Electro-Sounds zu einem Sound
  auf\, der irgendwo zwischen Lee Perry\, Add N To X\, Sun Ra und James
  Bond Soundtracks angesiedelt ist. Wyders Keyboardklänge werden vor einer
  synchronisierten Kulisse aus Found-Footage-Filmen gespielt\, die von drei
  Super-8-Projektoren projiziert werden. Dies ergibt ein audiovisuelles
  Erlebnis\, das bei jedem Konzert anders
  ist.\nhttps://www.sound8orchestra.com\n\nEinlass: 19 Uhr\, Beginn: 20
  Uhr\n
LOCATION:Kohi\, Werderstr. 47\, 76137 Karlsruhe
GEO:49.0016763;8.407540161512713
ORGANIZER:mailto:Kohi
END:VEVENT
END:VCALENDAR
