BEGIN:VCALENDAR
VERSION:2.0
PRODID:karlsunruh.org
METHOD:REQUEST
BEGIN:VEVENT
UID:8b5e22c9-87dc-41e0-8c0b-6eac783278fc
URL:https://karlsunruh.org/event/8b5e22c9-87dc-41e0-8c0b-6eac783278fc
SUMMARY:Roller Derby Schnupperkurs
DTSTART:20260424T183000Z
DTEND:20260424T200000Z
CATEGORIES:Sport/Bewegung\,Sonstiges
DESCRIPTION:Anmeldelink: https://rockarollers.de/mitmachen\n\nBei Fragen\,
  ggf. auch Interesse von Moderator*innen oder weiteren Infos für uns\,
  meldet Euch gern!\n\n*Rechts ist gegen Derbyrichtung!*\n\nKeine
  Vorkenntnisse oder eigenes Equipment notwendig. In den ersten 3 Monaten
  geht es natürlich um das Vermitteln von Skating Skills & wir gehen
  langsam in den Kontakt.\n\nHier ein paar Links:\n\nInstagram:
  https://www.instagram.com/rollerderbykarlsruhe/\n\nUnsere Website:
  https://rockarollers.de/\n\nRoller Derby\, was war das noch gleich?
  (Video): https://youtu.be/-Hw8I8hYTOo\n\nNeben Fitness\, Agilität\,
  Körpereinsatz und Power kennzeichnen auch taktisches Verständnis sowie
  Teamgeist einen erfolgreichen Bout (Spiel). Dabei wird eine
  internationale\, offene und alternative Community mit einem
  Vollkörperkontaktsport vereint. 
LOCATION:Rheinstrandhalle\, Lindenallee 12\, in Karlsruhe-Daxlanden
ORGANIZER:mailto:Rockarollers
END:VEVENT
END:VCALENDAR
