BEGIN:VCALENDAR
VERSION:2.0
PRODID:karlsunruh.org
METHOD:REQUEST
BEGIN:VEVENT
UID:9002eefb-fbd5-45d4-a2a5-5d18adba44d4
URL:https://karlsunruh.org/event/9002eefb-fbd5-45d4-a2a5-5d18adba44d4
SUMMARY:Anarchistischer Stammtisch
DTSTART:20260423T163000Z
CATEGORIES:Treffen\,Anarchismus
DESCRIPTION:
LOCATION:Kuna\, Schauenburgstr. 5\, 76135 Karlsruhe
GEO:48.9890192;8.3718512
ORGANIZER:mailto:Kuna
END:VEVENT
END:VCALENDAR
