BEGIN:VCALENDAR
VERSION:2.0
PRODID:karlsunruh.org
METHOD:REQUEST
BEGIN:VEVENT
UID:90864d9f-eaf2-49f9-817d-48a965797fb7
URL:https://karlsunruh.org/event/90864d9f-eaf2-49f9-817d-48a965797fb7
SUMMARY:Pasta-Montag
DTSTART:20260817T130000Z
DTEND:20260817T170000Z
CATEGORIES:Bar/Cafe\,Anarchismus
DESCRIPTION:Jeden Montag in Kuna gibt es Pasta mit Sauce.\n\nImmer vegan\,
  immer auf Spendenbasis!\n\nab 15 Uhr geöffnet\nab 17 Uhr Pasta 
LOCATION:Kuna\, Schauenburgstr. 5\, 76135 Karlsruhe
GEO:48.9890192;8.3718512
ORGANIZER:mailto:Kuna
END:VEVENT
END:VCALENDAR
