BEGIN:VCALENDAR
VERSION:2.0
PRODID:karlsunruh.org
METHOD:REQUEST
BEGIN:VEVENT
UID:936cbacd-fe32-4d4d-9648-ba2584b4dcd2
URL:https://karlsunruh.org/event/936cbacd-fe32-4d4d-9648-ba2584b4dcd2
SUMMARY:WAS BLEIBT II
DTSTART:20260814T220000Z
DTEND:20260815T000000Z
CATEGORIES:Konzert\,Kultur
DESCRIPTION:More Infos tba
LOCATION:p8\, Schauenburgstraße 5\, 76135 Karlsruhe
GEO:48.9887950677221;8.372030230380888
ORGANIZER:mailto:p8
END:VEVENT
END:VCALENDAR
