BEGIN:VCALENDAR
VERSION:2.0
PRODID:karlsunruh.org
METHOD:REQUEST
BEGIN:VEVENT
UID:95b16ff7-28aa-4a8b-99fd-456cd4c5ae8f
URL:https://karlsunruh.org/event/95b16ff7-28aa-4a8b-99fd-456cd4c5ae8f
SUMMARY:Stoppt das Töten: Stimmen aus der Ukraine und Russland
DTSTART:20260222T130000Z
DTEND:20260222T153000Z
CATEGORIES:Diskussion\,Internationalismus
DESCRIPTION:Online-Veranstaltung zum vierten Jahrestag des Ukrainekrieges:
  Sonntag\, 22. Februar 2026\, 14:00-16.30 Uhr.\n\nAm 24. Februar 2026
  jährt sich der russische Angriff auf die Ukraine zum vierten Mal. Er
  verursacht weiter Leid\, Tod und Verwüstung. Mit jedem Tag kommen immer
  mehr Menschen ums Leben\, werden körperlich verletzt oder psychisch
  traumatisiert. Wir werden anlässlich des Jahrestages die andauernde
  Tragödie des Krieges und die Opfer auf beiden Seiten in den Vordergrund
  stellen.\n\nWir beleuchten die gesundheitlichen und psychischen Folgen
  des Krieges. Wir hören die Perspektiven von Vertreter*innen der
  Zivilgesellschaft aus der Ukraine und Russland. Wir erfahren von ihrem
  Engagement gegen den Krieg\, von menschlichen Schicksalen und rechtlichen
  Konsequenzen für Kriegsdienstverweigerer in der Ukraine und in
  Russland.\n\nReferent*innen:\n\n    Die gesundheitlichen und psychischen
  Folgen: Dr. Angelika Claußen\, IPPNW-Vorsitzende\n\n   
  Kriegsdienstverweigerung in der Ukraine: Andrii Konovalov\n\n   
  Kriegsdienstverweigerung in Russland: Artem Klyga\, Connection e.V.\n\n  
   Russen gegen Krieg\, Möglichkeiten zivilgesellschaftlichen Engagements
  in Russland: \n    Anke Giesen\, Memorial Deutschland\n\n    Soziale
  Bewegungen in der Ukraine: Volodymyr Ishchenko\, Soziologe an der Freien
  Universität Berlin\n    \n    Moderation: Yannick Kiesel und Christine
  Schweitzer\n\nAnmeldung bis zum 19. Februar 2026 beim Netzwerk
  Friedenskooperative:\nhttps://www.friedenskooperative.de/anmeldung-webina
 r-jahrestag-ukraine\n\nVeranstalter*innen: Aktionsgemeinschaft Dienst für
  den Frieden (AGDF)\, attac Deutschland\, Bund für Soziale Verteidigung
  e.V.\, Church and Peace – Europäisches Friedenskirchliches Netzwerk\,
  Deutsche Friedensgesellschaft – Vereinigte KriegsdienstgegnerInnen
  (DFG-VK)\, Internationale Ärzt*innen für die Verhütung des Atomkrieges
  (IPPNW)\, Netzwerk Friedenskooperative\, NaturFreunde Deutschlands\, Ohne
  Rüstung Leben\n
LOCATION:online
ORGANIZER:mailto:DFG-VK Karlsruhe
END:VEVENT
END:VCALENDAR
