BEGIN:VCALENDAR
VERSION:2.0
PRODID:karlsunruh.org
METHOD:REQUEST
BEGIN:VEVENT
UID:99246309-9265-4f6b-85b4-1ae196b34f03
URL:https://karlsunruh.org/event/99246309-9265-4f6b-85b4-1ae196b34f03
SUMMARY:Fiesta Via Canale - Straßenfest im Kanalweg
DTSTART:20250628T120000Z
DTEND:20250628T210000Z
CATEGORIES:Party\,Kultur
DESCRIPTION:Fiesta Via Canale - Straßenfest \n*soziokulturell\,
  nachbarschaftlich\, unkommerziell*\n \n\nAm 28. Juni 2025 wird endlich
  wieder ein großes Straßenfest im Kanalweg gefeiert!\n\nDiesmal haben
  sich das Kulturhaus MIKADO\, die MieterInneninitiative Karlsruhe (MiKa)
  und das Restaurant fünf zusammengetan.\n\nLangjährige Gäste der Feste
  im Kanalweg werden so manches wiedererkennen\, aber für dieses Jahr sind
  auch einige neue Überraschungen im Programm. \n\nDie Autos werden von
  der Straße und den Parkplätzen verbannt\, um Platz zu schaffen für die
  schönen Dinge im Leben. Ab 14 Uhr verwandelt sich so die Straße im
  Wohnprojekt zu einem Wohlfühlort für Groß und Klein. Freut euch auf
  Live-Musik\, internationale Küche an mehreren Essensständen\, Kaffee
  und Kuchen\, kühle Getränke und ein vielfältiges Rahmenprogramm.\n\nAm
  Nachmittag könnt ihr Neues ausprobieren und euch austoben: auf Bäume
  klettern\, Einrad fahren und gemeinsam ein Kunstwerk auf die Straße
  malen. Auf der Wiese erzählt euch der Bananenfuchs bei seiner
  interaktiven musikalischen Kindershow von seinen
  Abenteuern.\n\nZwischendurch werden Akrobatikgruppen für Staunen im
  Puplikum sorgen und ihr könnt Rettungshunde bei der Arbeit beobachten.
  Vielleicht findet ihr auch einen Schatz auf dem beliebten
  Flohmarkt.\n\nAm Abend werden wir gemeinsam vor der großen Bühne das
  Tanzbein schwingen: Von Chormusik über Rap\, Hip-Hop und Balkanbeats bis
  hin zu elektronischer Tanzmusik ist für alle was dabei!\n\n\nWir freuen
  uns auf Euch!
LOCATION:Mika\, Kanalweg 44-60\, Karlsruhe
GEO:49.03131;8.392166
ORGANIZER:mailto:Fünf,Kulturhaus Mikado,Mika eG
END:VEVENT
END:VCALENDAR
