BEGIN:VCALENDAR
VERSION:2.0
PRODID:karlsunruh.org
METHOD:REQUEST
BEGIN:VEVENT
UID:99e50124-80ff-40e1-998b-c03ca17de850
URL:https://karlsunruh.org/event/99e50124-80ff-40e1-998b-c03ca17de850
SUMMARY:EMBRYO
DTSTART:20260623T180000Z
DTEND:20260623T200000Z
CATEGORIES:Konzert\,Kultur
DESCRIPTION:EMBRYO ist ein einzigartiges Musikkollektiv aus München\,
  welches Kraut\, Rock\, Jazz\, freie Improvisation\, inner- und
  außereuropäische Rhythmen und Klänge verbindet wie kein
  Zweites.\nEmbryo existiert seit 1969\, übergreift Generationen\, Genres
  und Grenzen. Sie spielten bereits mit Mal Waldron\, Okay Temiz\, Fela
  Kuti\, Charlie Mariano und vielen anderen. Marja Burchard\, Tochter des
  Gründers Christian Burchard\, übernahm 2015 die Band\, in der sie
  selbst aufgewachsen ist. Seit dem lebt Embryo mit ihr weiter und sucht
  stets nach neuen Klängen\, Rhythmen und Ideen anders
  Denkender.\nBesetzung:\nMarja Burchard - Vibraphon\, Keys\, Santur\,
  Stimme\nJohannes Schleiermacher - Flöte\, Saxophon\, Synthesizer\nMaasl
  Maier - Bass\, Flöte\, Synthesizer\nJakob Thun - Schlagzeug\nEinlass: 19
  Uhr\, Beginn: 20 Uhr
LOCATION:Kohi\, Werderstr. 47\, 76137 Karlsruhe
GEO:49.0016763;8.407540161512713
ORGANIZER:mailto:Kohi
END:VEVENT
END:VCALENDAR
