BEGIN:VCALENDAR
VERSION:2.0
PRODID:karlsunruh.org
METHOD:REQUEST
BEGIN:VEVENT
UID:9f7187a5-8601-4a8c-8364-ffee8a2a3dcd
URL:https://karlsunruh.org/event/9f7187a5-8601-4a8c-8364-ffee8a2a3dcd
SUMMARY:My Stolen Planet
DTSTART:20260201T183000Z
DTEND:20260201T203000Z
CATEGORIES:Film\,Sonstiges
DESCRIPTION:My Stolen Planet erzählt in Tagebuchform von Farah\, einer
  Filmemacherin\, die 1979\, nach der islamischen Revolution im Iran
  geboren wurde. In einer Sammlung von 8-mm-Filmen\, die sie von
  verschiedenen Menschen erworben hat\, stellt sie Momente der Freude und
  des Widerstands zusammen und zeigt den Kontrast zwischen innerer Freiheit
  und äußerer Unterdrückung. Im Herbst 2022 wurde der „Frau – Leben
  – Freiheit“ Aufstand zu einem Wendepunkt im Leben Farahs und vieler
  Iranerinnen und Iraner im In- und Ausland. Der Film zeigt Momente des
  Friedens inmitten des Aufruhrs und beleuchtet die komplexen
  Zusammenhänge zwischen persönlichem und politischem Leben im Iran. Der
  Film wurde im Panorama Dokumente der Berlinale 2024
  gezeigt.\n\nhttps://kinemathek-karlsruhe.de/film/my-stolen-planet/
LOCATION:Kinemathek\, Kaiserpassage 6 76133 Karlsruhe
GEO:49.010608500000004;8.396970535255974
ORGANIZER:mailto:Kinemathek
END:VEVENT
END:VCALENDAR
