BEGIN:VCALENDAR
VERSION:2.0
PRODID:karlsunruh.org
METHOD:REQUEST
BEGIN:VEVENT
UID:a21a0ae4-40c9-4c3f-a372-c0347fbc1cf0
URL:https://karlsunruh.org/event/a21a0ae4-40c9-4c3f-a372-c0347fbc1cf0
SUMMARY:KONZERT: Das aus der Jugend + Berlin 2.0
DTSTART:20251212T200000Z
CATEGORIES:Konzert\,Kultur
DESCRIPTION:Fr\, 12.12.2025\nKONZERT: Das aus der Jugend + Berlin
  2.0\nKonzert präsentiert von SAU e.V.\nEinlass: 20:00 Uhr | Beginn:
  21:00 Uhr\n\n\nDas aus der Jugend ist die Kuschelpunkformation mit
  Affirmationen für Straßenschlacht und Arbeitszeitbetrug. Rock zum
  Schubsen und Schmusen zwischen Klassenfahrt und Power Trio Infernale\;
  mit Wut im Bauch und trotzdem immer für eine Umarmung bereit\, falls du
  gerade eine brauchst. Klingt wie Knutschen auf der Rückbank vom
  Polizeiauto\, dem Chef heimlich in den Kaffee pinkeln oder Champagner
  schlürfen im AZ. Zwischendurch schießt dir Mamas Kuschelrock-LP auf 45
  Umdrehungen direkt ins Herz.\n\nVergesst alles\, was ihr dachtet\, über
  Postpunk zu wissen – BERLIN 2.0 zünden die Endstufe in der
  Punk-Evolution. Nach dem szeneübergreifend gefeierten Debüt
  „Scherbenhügel“ droppt die Stuttgarter Band mit „Kaltental“
  jetzt ein zweites Mal eine Bombe über Postpunk Germany – und mit
  diesem Monster eines Longplayers ist klar: Hier wird keine Welle
  geritten. Hier wird eine Welle ausgelöst werden. „Kaltental“ ist der
  dystopische Soundtrack einer brennenden Welt im Endspiel kapitalistischer
  Ideologie\, zwischen Endzeit und Aufbruch\, Resignation und
  Kampfbereitschaft. Härter\, düsterer\, dringlicher. Mit einer Mischung
  aus rasenden Hardcore-Ausbrüchen\, klassischen Rock-Elementen\,
  Post-Hardcore-Gitarrenwänden und melodischem Endzeitpop kracht
  „Kaltental“ unverschämt souverän durch Genremauern und zerbombt mit
  radikal-klarsichtigen Texten von Ausnahmesängerin Elena Wolf
  Gabionenzäune in Vorgärten und Köpfen „ganz normaler“ Deutscher im
  Aufrüstungswahnsinn. Ferdinand Führer von Fieser Schwan Recordings hat
  „Kaltental“ aufgenommen\, gemixt und gemastert und in eine rohe\,
  dröhnende Elegie verwandelt\, die aber auch keine Gefangenen auf dem
  Dancefloor macht.
LOCATION:Alte Hackerei\, Alter Schlachthof 11a\, 76131 Karlsruhe
GEO:49.0055385;8.4291958
ORGANIZER:mailto:Alte Hackerei
END:VEVENT
END:VCALENDAR
