BEGIN:VCALENDAR
VERSION:2.0
PRODID:karlsunruh.org
METHOD:REQUEST
BEGIN:VEVENT
UID:a399305f-8975-4146-9061-6c193c93d057
URL:https://karlsunruh.org/event/a399305f-8975-4146-9061-6c193c93d057
SUMMARY:KONZERT: Los Fastidios
DTSTART:20260212T190000Z
CATEGORIES:Konzert\,Kultur
DESCRIPTION:Do\, 12.02.2026\nKONZERT: Los Fastidios\nKonzert präsentiert
  von SAU e.V.\nEinlass: 19:00 Uhr | Beginn: 20:00 Uhr\n\n\nLos Fastidios
  wurden Ende 1991 in Verona\, Italien\, von Enrico gegründet (der auch
  das Label KOB Records ins Leben rief).\nSie spielen einen
  superenergetischen Mix aus Street-Ska und Punk\, wie klassischer
  Streetpunk der 80er\, aber mit viel Reggae\, Rock'n'Roll und Rhythmen der
  60er\, garniert mit Pop-Elementen. Sie singen auf Italienisch\, streuen
  aber auch englische\, französische\, spanische und deutsche Ausdrücke
  ein. Ihre Songs reichen von fröhlichen Street-Hits bis hin zu ernsteren
  Themen wie dem Kampf gegen Rassismus und Diskriminierung\, dem Einsatz
  für Tierrechte und der Förderung von Freiheit und Solidarität.
LOCATION:Alte Hackerei\, Alter Schlachthof 11a\, 76131 Karlsruhe
GEO:49.0055385;8.4291958
ORGANIZER:mailto:Alte Hackerei
END:VEVENT
END:VCALENDAR
