BEGIN:VCALENDAR
VERSION:2.0
PRODID:karlsunruh.org
METHOD:REQUEST
BEGIN:VEVENT
UID:a5f589d2-faa9-47b9-a6a8-8aa615908824
URL:https://karlsunruh.org/event/a5f589d2-faa9-47b9-a6a8-8aa615908824
SUMMARY:Queerer Kunstmarkt
DTSTART:20260719T090000Z
DTEND:20260719T160000Z
CATEGORIES:Sonstiges\,Queerfeminismus
DESCRIPTION:Am 19. Juli 2026 ist es wieder so weit und wir organisieren von
  11 bis 18 Uhr\nden vierten QUEEREN KUNSTMARKT im Queeren Zentrum
  Karlsruhe. Mit dabei sind 25\nqueeere Künstler*innen und Allies\, die
  ihre Werke vorstellen.\n\n🆕 Während des Kunstmarkts wird es eine
  TOMBOLA geben durch die ihr Kunst der\nKünstler*innen vor Ort gewinnen
  könnt. Die Erlöse der Tombola kommen dem\nQueeren Zentrum zugute.\n\nOb
  Zeichnungen\, Bücher\, Schmuck\, Sticker\, interaktive Kunst oder
  textiles\nHandwerk … ihr könnt gespannt sein was euch erwarten
  wird!\n\nAn dem Tag selbst könnt ihr euch Getränke und Snacks an
  unserer Theke kaufen\,\naber es wird auch einige kostenfreie Leckereien
  geben.\n\nKommt vorbei und unterstützt Queere Kunst!\n\n\n\n-- 🇬🇧
  ENGLISH BELOW 🇬🇧 --\n\nOn the 19th of July 2026 we will organize
  the fourth QUEER ART MARKET\nKARLSRUHE from 11am to 6pm in the Queeres
  Zentrum Karlsruhe with 25 queer\nartists & allys.\n\n🆕 Throughout the
  day you have the opportunity to win queer art. The proceeds\nof the
  Tombola will go directly to queerKAstle.\n\nYou can experience Drawings\,
  Books\, Jewelry \, Stickers\, interactive Art or\nhandycraft textiles …
  and much more.\n\nYou can buy drinks and snacks at the bar or enjoy some
  free snacks aswell.\n\nCome on over and support queer
  art!\nhttps://queerkastle.de/veranstaltung/queerer-kunstmarkt-4/
LOCATION:queerKAstle - Karlsruher Zentrum für queere Vielfalt\,
  Liebigstraße 10-12\, 76135 Karlsruhe
GEO:49.0041532;8.37001
ORGANIZER:mailto:queerKAstle
END:VEVENT
END:VCALENDAR
