BEGIN:VCALENDAR
VERSION:2.0
PRODID:karlsunruh.org
METHOD:REQUEST
BEGIN:VEVENT
UID:a7fa55e5-2b72-427f-9bd5-d2c0951d9bb5
URL:https://karlsunruh.org/event/a7fa55e5-2b72-427f-9bd5-d2c0951d9bb5
SUMMARY:KONZERT: Desperadoz
DTSTART:20250531T180000Z
DTEND:20250531T180000Z
CATEGORIES:Konzert
DESCRIPTION:Dezperadoz sind mit ihrem sechsten Album „Moonshiner“ 2024
  wieder fest im Sattel und in die Top 15 der deutschen Metalcharts
  eingestiegen.\nMit ihrer Mischung aus Hardrock\,
  Italo-Western-Soundtracks à la Ennio Morricone\, Country und Metal
  sind Dezperadoz ein absolutes Unikat.Gegründet von Alex KRAFT und Tom
  „Sodom“ Angelripper\, bringen sie eben Diese nach 25 Jahren immer
  noch auf die Bühne. Zwei Stunden Live Entertainment ist keine
  Seltenheit.\nDas Spektrum der Cowboyz erstreckt sich von den Thrash
  Anfangstagen mit Tom Angelripper\, über Heavy-Western Songs zu
  Southern-Style Rock bis zu einer Acoustic Country Show\, die jede Bühne
  in einen Saloon verwandelt. Somit sind Dezperadoz in der Lage auf
  Festivals\, in Clubs\, Biker-Treffen sowie als Support einzuheizen.\nWie
  Tourneen und Auftritte mit Krokus\, Axxis\, Gotthard\, Thin Lizzy\,
  Rage\, Sodom\, Doro Pesch\, Molly Hatchet\, Volbeat\, U.D.O. und Tesla
  sowie Festival Shows (5x Wacken Open Air\, With Full Force\,
  Earthshaker-Fest\, Summer Breeze) als auch Gigs auf der Full Metal
  Holliday und in etlichen Clubs „all over Europe“ belegen.\n
LOCATION:Alte Hackerei\, Alter Schlachthof 11a\, 76131 Karlsruhe
GEO:49.0055385;8.4291958
ORGANIZER:mailto:Alte Hackerei
END:VEVENT
END:VCALENDAR
