BEGIN:VCALENDAR
VERSION:2.0
PRODID:karlsunruh.org
METHOD:REQUEST
BEGIN:VEVENT
UID:b281a413-4a7a-4404-83d4-fbdaee5fa6a9
URL:https://karlsunruh.org/event/b281a413-4a7a-4404-83d4-fbdaee5fa6a9
SUMMARY:Klima Puzzle – Wir haben die Karten in der Hand!
DTSTART:20251017T140000Z
DTEND:20251017T170000Z
CATEGORIES:Workshop\,Klimagerechtigkeit
DESCRIPTION:Ein wissenschaftlicher\, kooperativer und kreativer Workshop\,
  um mehr über das Klima zu lernen! \n\nDas Serious Game – weltweit
  unter dem Namen „Climate Fresk“ bekannt – ist basiert auf den
  Berichten des Weltklimarats IPCC und schlüsselt die wichtigsten
  Informationen mit Hil­fe von 42 Spielkarten auf. \nAls Team bringt man
  die­se Karten in eine Ursachen-Wirkungsbeziehung und erkennt so den
  systemischen Charakter des Klima­wandels. \n\nUnser Bottom-Up-Ansatz
  fördert kritisches\, interdisziplinäres Denken\, kurbelt den Teamgeist
  an und gibt Raum für einen offenen Dialog und eine lösungsorientierte
  Diskussion.\n\nAnmeldung erforderlich
  unter:\nhttps://association.climatefresk.org/training_sessions/a17ec5df-7
 e62-4037-999e-a04f991f906d/show_public?language=en&tenant_token=36bd2274d3
 982262c0021755 \n
LOCATION:SteamWork \, Roonstr. 23a \, Impact Studio
GEO:49.001527;8.3879422
ORGANIZER:mailto:GloW Karlsruhe e.V.
END:VEVENT
END:VCALENDAR
