BEGIN:VCALENDAR
VERSION:2.0
PRODID:karlsunruh.org
METHOD:REQUEST
BEGIN:VEVENT
UID:b386dfbb-29bb-46a9-a294-618786e1f3c4
URL:https://karlsunruh.org/event/b386dfbb-29bb-46a9-a294-618786e1f3c4
SUMMARY:Poly-Abend
DTSTART:20260424T150000Z
CATEGORIES:Treffen\,Queerfeminismus
DESCRIPTION:Wir laden wieder ein zum Polyamorie-Diskussionsabend am
  Freitag\, den 24.04. im KUNA (ehemals Café Noir).\n\nAb 17Uhr wird
  gekocht\, ab 19Uhr gibt es Essen und ab 19:30Uhr geht es los. \n\nWir
  sitzen gemütlich in kleinen Diskussionsrunden zusammen und diskutieren
  tiefer über \nThemen rund um Poly und Beziehung\, die uns gerade in den
  Sinn kommen. \nAuf Spendenbasis gibt es Essen und Getränke. <3\nWir
  freuen uns wieder auf einen schönen und entspannten Abend mit euch!
  \nBei Fragen oder Feedback könnt ihr euch gerne hier melden:
  kapoly@familymail.de
LOCATION:Kuna\, Schauenburgstr. 5\, 76135 Karlsruhe
GEO:48.9890192;8.3718512
ORGANIZER:mailto:Kuna
END:VEVENT
END:VCALENDAR
