BEGIN:VCALENDAR
VERSION:2.0
PRODID:karlsunruh.org
METHOD:REQUEST
BEGIN:VEVENT
UID:b4891636-0c0e-4d4c-8b51-fabfcf25ef62
URL:https://karlsunruh.org/event/b4891636-0c0e-4d4c-8b51-fabfcf25ef62
SUMMARY:BLUTWURST + LIQUID LAUGHTER
DTSTART:20250704T180000Z
DTEND:20250704T200000Z
CATEGORIES:Konzert\,Kultur
DESCRIPTION:20 Jahre Metzger\, Punkrock\, Overkill!\nSeit 2003 sind
  BLUTWURST aus Karlsruhe mit ihrem Gitarren lastigen Crossover-Punk ein
  fester Bestandteil der regionalen Punkrock-Welt. Sanne\, Setzla\, Bär
  und Nika bieten Energie mit melodischer Essenz\, ehrlichen
  sozialkritischen Texten\, einem Hauch von U.K.-Punk der 80er Jahre und im
  Abgang gekrönt von einem kleinen bisschen Horrorshow. Die Debut Scheibe
  THE GAME von 2010 sowie der darauffolgende Tonträger HUNGRY von 2014
  haben ihren Stellenwert in Sachen Metzgerpunk! Let´s go
  Wurschteln.\nDavor LIQUID LAUGHTER.\n„Aus der Zeit und dem Raum
  gefallene Töne verbinden sich in unseren Kehlen\, Händen und Füßen�
  und werden zu etwas Größerem als der Summe ihrer Teile...� sie finden
  uns\, wir fügen sie zusammen und es entsteht spontan etwas
  Außergewöhnliches. Wir sind LIQUID LAUGHTER aus Karlsruhe und\, wie in
  den ersten Zeilen schon angedeutet\, jammen wir sehr gerne. Da wir aber
  festgestellt haben\, dass ein ganzes Konzert ohne komponierte und
  arrangierte Lieder auch für uns als Zuhörer anstrengend sein kann\,
  nehmen wir Ideen aus unseren Jams und basteln daraus Lieder.� Diese
  stilistisch einzuordnen\, fällt uns sehr schwer\, daher müsst Ihr
  selbst reinhören.“ (Liquid
  Laughter)\nhttps://www.backstagepro.de/liquidlaughter\nEinlass: 19 Uhr\,
  Beginn: 20 Uhr
LOCATION:Kohi\, Werderstr. 47\, 76137 Karlsruhe
GEO:49.0016763;8.407540161512713
ORGANIZER:mailto:Kohi
END:VEVENT
END:VCALENDAR
