BEGIN:VCALENDAR
VERSION:2.0
PRODID:karlsunruh.org
METHOD:REQUEST
BEGIN:VEVENT
UID:ba5bb8ba-9cc0-40d5-b00c-c9d663bc7709
URL:https://karlsunruh.org/event/ba5bb8ba-9cc0-40d5-b00c-c9d663bc7709
SUMMARY:Workshoplesung: Die Suche nach der Einheit
DTSTART:20250724T170000Z
DTEND:20250724T183000Z
CATEGORIES:Vortrag\,Sonstiges
DESCRIPTION:24.07.2025 | 19-20:30 Uhr | Stadtbibliothek im Neuen
  Ständehaus\, Ständehausstr. 2\n\nWie kann es überhaupt zu einem
  Genozid kommen? Warum und wie entsteht Ab- und Ausgrenzung?\n\nJudence
  Kayitesi gibt einen Einblick in ihr neues Buch „Die Suche nach der
  Einheit“\, welches als Arbeitsbuch für Jugendliche und junge
  Erwachsene geschrieben ist. Anhand ihrer eigenen Biographie und somit dem
  Genozid an den Tutsi in Rwanda 1994 gibt die Autorin einen Einblick in
  die Mechanismen\, die hinter einer Entwicklung hin zum Genozid stehen und
  lädt zur Reflektion sowie zum Austausch ein.
LOCATION:Stadtbibliothek Karlsruhe \,  
GEO:49.0088688;8.4003289
ORGANIZER:mailto:GloW Karlsruhe e.V.
END:VEVENT
END:VCALENDAR
