BEGIN:VCALENDAR
VERSION:2.0
PRODID:karlsunruh.org
METHOD:REQUEST
BEGIN:VEVENT
UID:baf9466d-f3b7-48bf-908e-9a71b613edba
URL:https://karlsunruh.org/event/baf9466d-f3b7-48bf-908e-9a71b613edba
SUMMARY:Sophienstraße autofrei
DTSTART:20250703T140000Z
DTEND:20250703T143000Z
CATEGORIES:Demo/Kundgebung\,Mobilität
DESCRIPTION:⁨📷⁩ ⁨trotz erfolgreichem Verkehrsversuch\, positiver
  Rückmeldung von Anwohner*innen und Schüler*innen vom Lessing-Gymnasium
  möchte die Stadtverwaltung die Sperrung am Gutenbergplatz nicht
  umsetzen. 😡\n\nWir fordern weiter "Sophienstraße autofrei"
  🚗🚫\n\nvor der Ausschusssitzung des Gemeinderats setzen wir uns für
  die Sperrung am Gutenbergplatz ein\n\nam Donnerstag 03.07.\nUm 16:00\nauf
  dem Marktplatz \n\n(die Ausschusssitzung danach ist öffentlich)⁩
LOCATION:Marktplatz Karlsruhe\, marktplatz karlsruhe
GEO:49.0089483;8.4038789
ORGANIZER:mailto:Fridays For Future Karlsruhe
END:VEVENT
END:VCALENDAR
