BEGIN:VCALENDAR
VERSION:2.0
PRODID:karlsunruh.org
METHOD:REQUEST
BEGIN:VEVENT
UID:bed5c1af-5aa9-4ca6-9ca4-c216fe12b335
URL:https://karlsunruh.org/event/bed5c1af-5aa9-4ca6-9ca4-c216fe12b335
SUMMARY:Stadtrundgang: Karlsruher GreenVibes - Klima\, Wandel\, deine Stadt
DTSTART:20250922T150000Z
DTEND:20250922T170000Z
CATEGORIES:Sonstiges\,Klimagerechtigkeit
DESCRIPTION:Die Herausforderungen unserer Zeit machen auch vor Karlsruhe
  nicht Halt. Wie verändert das unsere Stadt und wie wappnet sie sich für
  die Zukunft? Zusammen erkunden wir in zwei Stunden und zu Fuß fünf
  verschiedene Orte des Wandels in unserer Stadt und entdecken\, was sich
  hier hinsichtlich Klimaschutz\, Mobilitätswende und nachhaltiger Konsum
  bewegt. Lass dich inspirieren von Projekten und Möglichkeiten und
  erfahre\, wie du selbst Teil des Wandels sein kannst! \n\nDer
  Stadtrundgang ist für Menschen ab circa 12 Jahren geeignet. Wir
  möchten\, dass alle teilhaben können\, daher kontaktiert uns gerne\,
  falls irgendwelche Barrieren existieren\, und wir finden eine Lösung.
  Wir starten gemeinsam am Kronenplatz neben dem Café Intro. Wir empfehlen
  wetterangepasste Kleidung und eine Anmeldung an info@glow-karlsruhe.org.
  Mehr Informationen unter
  https://glow-karlsruhe.org/karlsruher-stadtrundgaenge/ \n\nTeilnahme auf
  Spendenbasis. Am 11.10.2025 wird der Rundgang wiederholt. \nEine
  Veranstaltung von GloW Karlsruhe e.V. im Rahmen der Fairen Wochen
  Karlsruhe
LOCATION:Kronenplatz\, Kronenplatz\, Tischtennisplatte bei Café Intro
GEO:49.0085838;8.4091911
ORGANIZER:mailto:GloW Karlsruhe e.V.
END:VEVENT
END:VCALENDAR
