BEGIN:VCALENDAR
VERSION:2.0
PRODID:karlsunruh.org
METHOD:REQUEST
BEGIN:VEVENT
UID:c2f8fa58-ed7b-4a36-9a3e-baa002ea99f0
URL:https://karlsunruh.org/event/c2f8fa58-ed7b-4a36-9a3e-baa002ea99f0
SUMMARY:Lesung: Der Junge\, der die Dunkelheit verschluckte
DTSTART:20260204T170000Z
DTEND:20260204T183000Z
CATEGORIES:Sonstiges\,Queerfeminismus
DESCRIPTION:Am 04. Februar 2026 organisieren wir um 18 Uhr eine Lesung des
  Buchs „Der\nJunge\, der die Dunkelheit verschluckte" von Alexandre Sax
  Gomes.\n\n„Der Junge\, der die Dunkelheit verschluckte“ ist das
  eindringliche Tagebuch\nvon Alexandre Sax Gomes\, einem achtjährigen
  Jungen\, dessen Leben auf tragische\nWeise durch eine unheilbare
  Krankheit verändert wurde.\n\n⚠️ Triggerwarnungen: Trauer\, Tod\,
  Depression ⚠️\n\nAn Weihnachten 2021 wurde bei Alexandre ein
  unoperierbarer Hirntumor\ndiagnostiziert. Von diesem Tag an veränderte
  sich alles. Über die nächsten elf\nMonate verlor er nach und nach all
  seine Fähigkeiten. Diese schmerzhafte Reise\nführte ihn schließlich in
  ein Kinderhospiz\, wo er am 11. Dezember 2022\nverstarb.\n\nIn seinem
  Tagebuch schildert Alexandre mit bemerkenswerter Ehrlichkeit
  und\nkindlicher Weisheit\, wie die „Dunkelheit“ in seinem Kopf wuchs
  und sein Leben\nveränderte. Mit unerschütterlichem  \nMut stellte er
  sich dem unausweichlichen Todentgegen und kämpfte tapfer gegen\ndie
  Traurigkeit\, die ihn umgab.\n\nDie Lesung wird von Lila\, Alexandres
  Mutter\, durchgeführt\, im Anschluss gibt\nes die Möglichkeit\, mit ihr
  ins Gespräch zu kommen und das Buch zu erwerben.\n\nDie Lesung ist nicht
  für Kinder
  geeignet.\nhttps://queerkastle.de/veranstaltung/lesung-der-junge-der-die-
 dunkelheit-verschluckte/
LOCATION:queerKAstle - Karlsruher Zentrum für queere Vielfalt\,
  Liebigstraße 10-12\, 76135 Karlsruhe
GEO:49.0041532;8.37001
ORGANIZER:mailto:queerKAstle
END:VEVENT
END:VCALENDAR
