BEGIN:VCALENDAR
VERSION:2.0
PRODID:karlsunruh.org
METHOD:REQUEST
BEGIN:VEVENT
UID:c3b76bf1-263c-46f4-8198-b981ce209ca9
URL:https://karlsunruh.org/event/c3b76bf1-263c-46f4-8198-b981ce209ca9
SUMMARY:PIPPA + Nina Jacob
DTSTART:20260109T190000Z
DTEND:20260109T210000Z
CATEGORIES:Konzert\,Kultur
DESCRIPTION:PIPPA\nist eine Wiener Künstlerin mit einem Händchen für
  poppig-eingängige\, tanzbare Melodien. Für „Alles Ok“\, eine
  Singleauskopplung ihres erfolgreichen dritten Studioalbums “Blick”\,
  wurde Pippa für den Austrian Amadeus Music Award 2024 als beste
  Songwriterin nominiert.\nDass Pippa sich nicht mit einem geradlinigen
  Leben in der Komfortzone zufrieden gibt und ihre Reise
  lyrisch-bilderreich zu verpacken weiß\, beweist die Künstlerin ein
  weiteres Mal auf ihrem vierten Studioalbum “Träume auf Zement”\, das
  am 28. März 2025 erschien. Mal befreiend ehrlich\, mal märchenhaft und
  voller versteckter Botschaften erzählen Anti-Hymne\, Enttabuisierungen\,
  Normenbrecher und Liebeslieder von der großen Geschichte einer Suche
  nach der Freiheit. Herausgekommen sind elf Stücke\, die mal
  zart-melancholisch wie das eröffnende „Reise“ wirken\, an anderer
  Stelle in die Tanzbeine fahren ("Verstand") oder Pippas ganz eigene
  Popdeutung untermauern ("Tauche wieder auf"). Die behutsam gesetzten
  Worte und Sätze greifen schnell\, bieten aber auch beim wiederholten
  Hören neue Zugänge an\, während sich die Musik unwiderstehlich ihren
  Weg in die Gehörgänge bahnt.\nDabei wird sich die Hörerschaft manchmal
  ertappen und denken: Das klingt doch wie ...? Ja\, Stücke wie das
  gelungene „Nichts tun“ sind sehr direkte Ehrerweisungen an die
  deutsche Band Wir sind Helden und deren Sängerin Judith Holofernes\,
  ohne wie reine Kopien zu wirken.\n„Ich habe wirklich großen Respekt
  vor ihr“\, nickt Pippa. Indierock sei generell eine Inspirationsmusik
  gewesen.\nDavor NINA JACOB.\nNina Jacob ist eine außergewöhnliche
  Sängerin und Künstlerin. Im Sommer 2024 setzt sich die junge
  Eschwegerin in den Kopf\, dass sie Musikerin werden möchte. Knapp ein
  Jahr später kann sie auf über 20 gespielte Konzerte und 9
  Veröffentlichungen zurückblicken\, 15 weitere Shows folgen noch\,
  kurzum: es war und wird ein krasses Jahr 2025. Tendenz steigend. 2026
  wird nicht weniger turbulent – im Gegenteil. Die erste Headline-Tour\,
  ein langer Festivalsommer\, das erste Album. Man könnte meinen\, dass
  sie keine Ruhe findet\, dass sie Biss hat\, dass sie Musik lebt. Nina
  Jacob macht tanzbaren Deutschpop. Ihre Songs handeln von
  Selbstbestimmung\, vom Ausbruch aus dem Alltag und von der Suche und dem
  Finden von Sinn im viel zu schnellen Leben. Musikalisch lässt sie sich
  zwischen Nina Chuba\, Florence and the Machine und Wir sind Helden
  einordnen – aber halt auch nur einordnen\, denn einen eigenen Stil hat
  sie ohne Frage. Nina Jacob will laut sein\, ausbrechen\, anecken\, sich
  querstellen und verpackt ihre Gefühle und Geschichten in ausdrucksstarke
  Popkleider. Ihre Stimme ist rotzig und dennoch glasklar\, ihr Ausdruck
  mäandert zwischen einfühlsam und expressiv\, zwischen liebevoll und
  gewaltig.\nNina Jacob sollte man im Auge behalten – von ihr wird man
  noch viel hören!\nInfos:\nhttps://ninajacob.de/\nEinlass: 19 Uhr\,
  Beginn: 20 Uhr
LOCATION:Kohi\, Werderstr. 47\, 76137 Karlsruhe
GEO:49.0016763;8.407540161512713
ORGANIZER:mailto:Kohi
END:VEVENT
END:VCALENDAR
