BEGIN:VCALENDAR
VERSION:2.0
PRODID:karlsunruh.org
METHOD:REQUEST
BEGIN:VEVENT
UID:c56db102-d3a8-4a1b-8030-498f86b2114e
URL:https://karlsunruh.org/event/c56db102-d3a8-4a1b-8030-498f86b2114e
SUMMARY:Pasta-Montag
DTSTART:20260720T130000Z
DTEND:20260720T170000Z
CATEGORIES:Bar/Cafe\,Anarchismus
DESCRIPTION:Jeden Montag in Kuna gibt es Pasta mit Sauce.\n\nImmer vegan\,
  immer auf Spendenbasis!\n\nab 15 Uhr geöffnet\nab 17 Uhr Pasta 
LOCATION:Kuna\, Schauenburgstr. 5\, 76135 Karlsruhe
GEO:48.9890192;8.3718512
ORGANIZER:mailto:Kuna
END:VEVENT
END:VCALENDAR
