BEGIN:VCALENDAR
VERSION:2.0
PRODID:karlsunruh.org
METHOD:REQUEST
BEGIN:VEVENT
UID:c7ca7ced-e461-4565-8904-787eaa66ae9b
URL:https://karlsunruh.org/event/c7ca7ced-e461-4565-8904-787eaa66ae9b
SUMMARY:Roller Derby Schnuppertraining
DTSTART:20260422T170000Z
DTEND:20260422T183000Z
CATEGORIES:Sport/Bewegung\,Sonstiges
DESCRIPTION:Anmeldelink: https://rockarollers.de/mitmachen\n\nBei Fragen\,
  ggf. auch Interesse von Moderator*innen oder weiteren Infos für uns\,
  meldet Euch gern!\n\n*Rechts ist gegen Derbyrichtung!*\n\nKeine
  Vorkenntnisse oder eigenes Equipment notwendig. In den ersten 3 Monaten
  geht es natürlich um das Vermitteln von Skating Skills & wir gehen
  langsam in den Kontakt.\n\nHier ein paar Links:\nInstagram:
  https://www.instagram.com/rollerderbykarlsruhe/\nUnsere Website:
  https://rockarollers.de/\nRoller Derby\, was war das noch gleich?
  (Video): https://youtu.be/-Hw8I8hYTOo\n\nNeben Fitness\, Agilität\,
  Körpereinsatz und Power kennzeichnen auch taktisches Verständnis sowie
  Teamgeist einen erfolgreichen Bout (Spiel). Dabei wird eine
  internationale\, offene und alternative Community mit einem
  Vollkörperkontaktsport vereint. \n
LOCATION:Rheinstrandhalle\, Lindenallee 12\, in Karlsruhe-Daxlanden.
ORGANIZER:mailto:Rockarollers
END:VEVENT
END:VCALENDAR
