BEGIN:VCALENDAR
VERSION:2.0
PRODID:karlsunruh.org
METHOD:REQUEST
BEGIN:VEVENT
UID:c94e965c-64ab-4b5a-bf34-fed8cd258d69
URL:https://karlsunruh.org/event/c94e965c-64ab-4b5a-bf34-fed8cd258d69
SUMMARY:DAS PARADIES + STEFANIE SCHRANK
DTSTART:20260124T190000Z
DTEND:20260124T210000Z
CATEGORIES:Konzert\,Kultur
DESCRIPTION:„ÜBERALL\, WO MENSCHEN SIND“\, das dritte Album von Das
  Paradies\, beginnt mit einer Kapitulation. „Florian gibt auf“\, singt
  Florian Sievers unter seinem Alias Das Paradies. Die Musik selbst klingt
  dabei weniger beklommen\, weniger düster\, als man es nach dieser
  Eröffnung erwarten würde. Das Album ist im Fluss. Treibende
  Achtelgitarren öffnen sich zu feierlichen Akkorden\, gesangliche
  Effekt-Fetzen geistern durch die Refrains\, bevor sich die Melodien
  wieder zärtlich an und um die Zeilen schmiegen - als würden sie sie
  wärmen wollen. Willkommen zurück in Florian Sievers’ eigenwilligen
  Spielart von Popmusik. „Ich fürchte mich vor dir und dir und dir\,
  weil du nichts befürchten musst“ heißt es in „DER SPUK DER UNS
  VERBINDET“. „Und da sitzen wir und streicheln ein Tier“\, in „AN
  EINEM KIRSCHBAUM IN EINEM SOMMER“\, einer der beiden vorab
  ausgekoppelten Singles\, die in ihrer verschrobenen\, aber genialen
  Unverfrorenheit Indie-BRD-Assoziationen wie Blumfeld oder Lassie Singers
  hervorrufen.\n„ÜBERALL\, WO MENSCHEN SIND“ trifft Sievers Poesie auf
  einen essayistischen Ton. Wie Claims wirken die so eingängigen wie
  eigenwilligen Zeilen\, die er als Portale in seine Songs nutzt. Dahinter
  öffnen sich komplette Welten und drängende Fragen. Mit „GOLDENE
  ZUKUNFT“ gelang Florian Sievers 2018 eines der bemerkenswertesten
  deutschsprachigen Debütalben. Nach dem von der Kritik gelobten
  Nachfolger „TRANSIT“ (2022)\nund zwei EPs ist auch auf dem dritten
  Album wieder die Psychedelik des langen Hinschauens\, die gebrochene
  Realromantik - gesungen mit feierlicher Unaufgeregtheit.\nFür die Tour
  zum neuen Album baut Florian Sievers zusammen mit Robert Kretzschmar
  (u.a. Kat Frankie\, Anna Erhard) auf der Bühne die Paradies-Klangwelt
  zusammen. Mit Schlagzeug und\nVibraphon. Gitarren und Synthesizern\,
  Hallfahnen un Feedbackschleifen. Eine Umarmung und ein Schütteln
  zugleich.\nDavor STEFANIE SCHRANK:\nStefanie Schrank ist bildende
  Künstlerin und Mitglied der Kölner Indierock-Band Locas In Love. Mit
  ihrem ersten Soloalbum 'Unter der Haut eine überhitzte Fabrik' begann
  sie 2019 aus analogen Synthesizern und eckig-eleganten Grooves ihren ganz
  eigenen Pop zusammenzusetzen. Ihr vielbeachtetes Debüt wurde in der
  Presse gefeiert. Nun endlich\, auf den Tag genau sechs Jahre nach ihrem
  Debütalbum\, erscheint ihr zweiter Longplayer 'Forma'. „Oscillations\,
  oscillations\, electronic evocations of sound´s reality. Spinning\,
  magnetic fluctuations\, waves of wave configurations that dance between
  the poles of sound”\, sangen die Silver Apples bereits 1968 in ihrem
  zukunftsweisenden Track „Oscillations”. Man könnte sagen\, dass
  Stefanie Schranks Album ganz im Zeichen des Credos dieser Zeilen steht:
  Auf Forma wird oszilliert\, ge-shapeshifted\, ge-crossfaded und zwischen
  den Polen getanzt\, dass es nur so eine Art hat! Stefanie Schrank hat in
  ihrem Studio Musik produziert\, die Zeugnis eines ewigen Werdens\,
  Wandels und Weiters ist. Jeder Sound ist eine Momentaufnahme aus endlosen
  Modulations-Prozessen. Aber sie hat am Ende – und zu unserem Glück –
  wundervolle Popsongs aus diesen Klängen
  herauskomponiert.\nInfos:\nhttps://www.stefanieschrank.com/\nEinlass: 19
  Uhr\, Beginn: 20 Uhr
LOCATION:Kohi\, Werderstr. 47\, 76137 Karlsruhe
GEO:49.0016763;8.407540161512713
ORGANIZER:mailto:Kohi
END:VEVENT
END:VCALENDAR
