BEGIN:VCALENDAR
VERSION:2.0
PRODID:karlsunruh.org
METHOD:REQUEST
BEGIN:VEVENT
UID:c96b3c76-793f-4e55-9d33-84cd5653ebc3
URL:https://karlsunruh.org/event/c96b3c76-793f-4e55-9d33-84cd5653ebc3
SUMMARY:Pub Quiz: Hack off!
DTSTART:20250918T180000Z
CATEGORIES:Party\,Kultur
DESCRIPTION:Kommt in Teams bis zu je 6 Personen und quizzt mit und testet
  euer Wissen: es gibt tolle Preise zu gewinnen!\n\nUnser lieber Kollege
  Lou moderiert das Quiz\, aber bitte beachten: auf englisch.
LOCATION:Alte Hackerei\, Alter Schlachthof 11a\, 76131 Karlsruhe
GEO:49.0055385;8.4291958
ORGANIZER:mailto:Alte Hackerei
END:VEVENT
END:VCALENDAR
