BEGIN:VCALENDAR
VERSION:2.0
PRODID:karlsunruh.org
METHOD:REQUEST
BEGIN:VEVENT
UID:ca373056-b6b2-42e7-8094-79c80f077dcd
URL:https://karlsunruh.org/event/ca373056-b6b2-42e7-8094-79c80f077dcd
SUMMARY:Pasta-Montag
DTSTART:20260420T130000Z
DTEND:20260420T170000Z
CATEGORIES:Bar/Cafe\,Anarchismus
DESCRIPTION:Jeden Montag in Kuna gibt es Pasta mit Sauce.\n\nImmer vegan\,
  immer auf Spendenbasis!\n\nab 15 Uhr geöffnet\nab 17 Uhr Pasta 
LOCATION:Kuna\, Schauenburgstr. 5\, 76135 Karlsruhe
GEO:48.9890192;8.3718512
ORGANIZER:mailto:Kuna
END:VEVENT
END:VCALENDAR
