BEGIN:VCALENDAR
VERSION:2.0
PRODID:karlsunruh.org
METHOD:REQUEST
BEGIN:VEVENT
UID:cb8fb922-4309-42b4-8bf0-b7acde2f80a7
URL:https://karlsunruh.org/event/cb8fb922-4309-42b4-8bf0-b7acde2f80a7
SUMMARY:Queere Open Mic Night
DTSTART:20260110T180000Z
DTEND:20260110T200000Z
CATEGORIES:Sonstiges\,Queerfeminismus
DESCRIPTION:🎶🎤  Am 10. Januar 2026 laden wir euch von 19 bis 21 Uhr
  zu einer Queeren Open\nMic Night im Queeren Zentrum Karlsruhe ein.
  Einlass ist ab 18 Uhr und der\nEintritt ist frei.\n\n⏲ Was ist eine
  Open Mic Night?\n\nBei einer OpenMic tragen Laien ihre selbst verfassten
  Texte oder Musik vor.\nUngeschriebene Regeln sind: ein Zeitlimit\, keine
  rassistischen\,\ndiskriminierenden\, geschmacklosen\, sexistischen oder
  beleidigenden Texte. Nach\ndem Vortrag kann sich das Publikum zu den
  Werken äußern.\n\nFür unsere queere Open Mic Night möchten wir
  queeren Menschen die Möglichkeit\ngeben\, ihre Kunst vorzutragen. 
  \nEgal ob Musik\, Comedy\, Theater\, Drag oder Tanz. Bei uns sind alle
  willkommen!\n\nDu willst dich ausprobieren\, traust dich aber noch nicht
  mit deiner eigenen\nKunst und willst Erfahrung vor Publikum sammeln? Du
  kannst auch fremde Texte\noder Musik vortragen\, wenn du dies
  entsprechend klar machst!\n\n💃👯‍♀️ 🎼 Beiträge sollten
  zwischen 5 und 15 Minuten lang sein. Zur besseren\nPlanung\, besonders
  wenn du noch etwas spezielles brauchst\, melde dich gerne\nper Mail bei
  projekt@queerkastle.de oder komm spontan vorbei.\n\nWir freuen uns auf
  euch!\nhttps://queerkastle.de/veranstaltung/open-mic-night_01-2026/
LOCATION:queerKAstle - Karlsruher Zentrum für queere Vielfalt\,
  Liebigstraße 10-12\, 76135 Karlsruhe
GEO:49.0041532;8.37001
ORGANIZER:mailto:queerKAstle
END:VEVENT
END:VCALENDAR
