BEGIN:VCALENDAR
VERSION:2.0
PRODID:karlsunruh.org
METHOD:REQUEST
BEGIN:VEVENT
UID:ce3d0e1c-fe4e-451c-bbfb-623a8125187d
URL:https://karlsunruh.org/event/ce3d0e1c-fe4e-451c-bbfb-623a8125187d
SUMMARY:Groove\, Glitzer & Kultur
DTSTART:20250726T120000Z
DTEND:20250726T140000Z
CATEGORIES:Konzert\,Kultur
DESCRIPTION:Am Samstag den 26. Juli 2025 laden euch die Kollektive
  Pandora\, BeatBetont und Taktkultur zu einem einzigartigen Event auf das
  Gelände der Kulturdose in Karlsruhe ein:\nGroove\, Glitzer & Kultur –
  eine bunte Mischung aus elektronischer Musik\, politischem Input und
  kreativer Entfaltung.\nTagsüber erwarten euch Workshops\, Vorträge und
  Austauschformate.\nZeitgleich wird ab mittags unter freiem Himmel und
  abends im P8 auf zwei Floors zu einem sorgfältig kuratierten Line-up aus
  DJs und Live-Acts getanzt – mit Sounds von Downtempo über House und
  Progressive bis hin zu treibendem Techno.\nOb politisch\, poetisch oder
  einfach nur partylustig – schmeißt euch in eure glitzerndsten
  Outfits\, bringt eure Freund*innen mit und feiert mit uns eine Nacht
  voller Haltung\, Herz und Heiterkeit.\nLet’s groove\, sparkle & raise
  awareness – für eine offene\, bunte und reflektierte
  Gesellschaft.\nInstagram:\n@pandora.kollektiv\n@beatbetont\n@takt.kult
 ur
LOCATION:p8\, Schauenburgstraße 5\, 76135 Karlsruhe
GEO:48.9887950677221;8.372030230380888
ORGANIZER:mailto:p8
END:VEVENT
END:VCALENDAR
