BEGIN:VCALENDAR
VERSION:2.0
PRODID:karlsunruh.org
METHOD:REQUEST
BEGIN:VEVENT
UID:d16c28c6-b05d-433c-a757-1aef53146cdc
URL:https://karlsunruh.org/event/d16c28c6-b05d-433c-a757-1aef53146cdc
SUMMARY:T-Short Animationsfilme
DTSTART:20260103T163000Z
DTEND:20260103T183000Z
CATEGORIES:Film\,Sonstiges
DESCRIPTION:Am Samstag\, 3.1. zeigen wir ein Best-of des Festivals.\nDas
  T-Short Festival findet online statt für Profis aus der ganzen Welt und
  für aktuelle und zukünftige Animationsfilmfans in Deutschland.\nKurze
  Animationsfilme\, die nicht länger als 15 Minuten dauern\, nehmen am
  Wettbewerbsprogramm des Festivals teil. Die meisten Filme des Festivals
  haben keine Dialoge oder Monologe. Das T-Short Festival akzeptiert alle
  Autorenanimationsfilme mit\, bevorzugt jedoch abstrakte\, experimentelle
  und surreale Animationsfilme.\nWir freuen uns\, Euch am 28.11.2025 und
  29.11.2025 zu einer limitierten Ausgabe von Wettbewerbsfilmen
  desFestivals in der Kinemathek Karlsruhe begrüßen zu dürfen.\nT-Short
  präsentiert in der Kinemathek  an zwei Tagen in zwei Vorstellungen zwei
  speziell zusammengestellte Programme aus unterschiedlichen
  Wettbewerbskategorien. In den Vorführungen werden Filme verschiedener
  Genres und Techniken gezeigt\, vom Surrealismus bis zum Erzählfilm\, von
  der Komödie bis zur Tragödie\, von der traditionellen Animation bis zum
  Experimentalfilm.\nDas Festival richtet sich ausschließlich an
  erwachsene Zuschauer. Die Filme werden von einer hochkarätigen Jury
  bewertet.\nFilme am 28.11.Ascendant Vierge – TIC TAC (Belgien\,
  Frankreich\, 2024\, 3:24)Regie: David PerreardWettbewerbsprogramm:
  Musikalische MotiveGenre: Fantasy\, Action\, MusikvideoTechnik:
  PuppenAltersgrenze: 12+Synopsis:Als der Himmel zerreißt und Meteoriten
  drohen\, begeben sich Paul und Mathilde\, dieTornadojäger\, auf eine
  wilde Verfolgungsjagd in die Wälder\, die ihre Beziehung auf dieProbe
  stellt.\nJoin / Mach mit! (Kanada\, 2024\, 3:28)Regie: Brennan James
  BovaWettbewerbsprogramm: DebütGenre: Surrealismus\, Künstlerisch\,
  MusikvideoTechnik: 2D ComputerAltersgrenze: 6+Synopsis:Ein Film über die
  Freude an der Gemeinschaft und am gemeinsamen Schaffen. Gespieltvon
  Enten.\nThe Green Ray / Der grüne Strahl (Frankreich\, 2024\,
  10:15)Regie: Louis FourelWettbewerbsprogramm: Bizarre Animation von
  StudierendenGenre: Experimentell\, PhilosophischTechnik:
  2D/Traditionell\, 2D Computer\, 3D Computer\, Bleistift auf
  PapierAltersgrenze: 12+Synopsis:Angetrieben von einem geheimnisvollen
  Energiefluss entwickelt sich eine Welt um dieSchöpfungen der
  menschlichen und tierischen Arten\, die an diesen Orten
  leben.\nFotorevolte (Deutschland\, 2024\, 5:48)Regie: Jule
  KörperichWettbewerbsprogramm: Bizarre AnimationGenre: Experimentell\,
  Drama\, PhilosophischTechnik: 2D ComputerAltersgrenze:
  12+Synopsis:Fotorevolte erzählt von dem Moment\, in dem die weltweit
  verfügbare Speicherkapazitäterschöpft ist. Alle digital gespeicherten
  Fotos und Filme erwachen zum Leben. DieMenschen werden durch Fotos von
  Sehenswürdigkeiten und Prominenten\, Logos undFilmfiguren aus ihrer
  Realität verdrängt.In Fotorevolte wird die Frage nach dem Einfluss der
  immer verfügbaren realen undfiktiven Bilder auf die Welt auf den Kopf
  gestellt und ad absurdum geführt. DerAnimationsfilm vereint rund 1000
  Zeichnungen\, Fotos\, Grafiken und Videos\, derenunterschiedliche
  Bildsprachen um Raum kämpfen\, sich überschneiden und
  vermischen.Passend zu diesem Ansatz wurden Musik und Geräusche erzeugt\,
  indem die Filmbildermit einem Licht-Klang-Synthesizer transformiert
  wurden.\nSinging machine (Machina do śpiewania) / Singende Maschine
  (Polen\, 2025\, 8:15)Regie: Wanda NejmanWettbewerbsprogramm: Bizarre
  Animation von StudierendenGenre: Experimentell\, AbstraktTechnik: Malen
  auf Glas\, Cut-outsAltersgrenze: 12+Synopsis:Was ist eine Bühne? Viele
  Tänzer versammeln sich vor Ihnen und runden die Szene ab.\nErotomania
  (Südkorea\, 2025\, 5:00)Regie: Chae-won Song\, Kyung-hee
  WangWettbewerbsprogramm: Bizarre Animation von StudierendenGenre:
  TragödieTechnik: Stop-motion\, Paint on PaperAltersgrenze:
  12+Synopsis:An einem friedlichen Tag im hellen Sonnenlicht spürt ein
  Mensch\, der frei tanzt\, denunablässigen Blick von jemandem\, der ihn
  beobachtet.\nImpromptu / Improvisation (Vereinigte Staaten\, 2025\,
  6:09)Regie: Steven SubotnickWettbewerbsprogramm: Bizarre AnimationGenre:
  Experimentell\, Abstrakt\, KünstlerischTechnik: Collage\, Malerei auf
  KartonAltersgrenze: 12+Synopsis:Animationsfilm aus fünf Tafeln\, Collage
  und Malerei auf Karton.\nHooked on Illusions / Von Illusionen gefangen
  (Deutschland\, 2023\, 4:28)Regie: Laura Isabel
  SchneiderWettbewerbsprogramm: Bizarre Animation von StudierendenGenre:
  SurrealismusTechnik: Bleistift auf Papier\, Malen auf GlasAltersgrenze:
  12+Synopsis:Nachts fischt ein einsamer alter Mann seine Träume aus dem
  Spiegelbild des Mondesund taucht in eine bedrohliche Traumwelt
  ein.Socially approved positions of bodies in space / Sozial akzeptierte
  Positionen von\nKörpern im Raum (Russische Föderation\, 2025\,
  3:36)Regie: Lera OleynikovaWettbewerbsprogramm: Erzählfilme von
  StudierendenGenre: DramaTechnik: Malerei auf PapierAltersgrenze:
  12+Synopsis:Der Film handelt von den gewöhnlichen und alltäglichen
  Handlungen\, die nach und nachkatastrophale Ausmaße annehmen.\nTo My Old
  Nightmare / Zu meinem alten Albtraum (Südkorea\, 2025\, 6:11)Regie:
  Sooyeon ShinWettbewerbsprogramm: Erzählfilme von StudierendenGenre:
  Drama\, FantasyTechnik: 2D ComputerAltersgrenze: 12+Synopsis:Das
  Mädchen\, das in einem Traum gefangen ist\, in dem es von denen verfolgt
  wird\, diees ihm verübeln\, gerät an den Ort\, an dem der Albtraum
  wohnt. Dort wird sie mit demalten Schuldgefühl konfrontiert\, das sich
  in den Albtraum verwandelt hat.\nWater Nymph / Wassernymphe (Tschechische
  Republik\, 2024\, 9:08)Regie: Lucie VostárkováWettbewerbsprogramm:
  Erzählfilme von StudierendenGenre: Surrealismus\, Melodrama\,
  MärchenTechnik: 2D ComputerAltersgrenze: 12+Synopsis:Inspiriert von
  slawischer Mythologie und Folklore erzählt der Film die Geschichte
  derSeele einer jungen Frau\, die als Meerjungfrau\, eine Wassernymphe\,
  wiedergeborenwurde. Die Unfähigkeit der Meerjungfrau\, ihr Schicksal zu
  akzeptieren\, und ihrVerlangen nach der Wärme eines menschlichen Herzens
  führen sie in die Welt derLebenden\, an die sie sich leider nicht
  anpassen kann.\nHotel L’infini (Vereinigte Staaten\, 2024\, 2:48)Regie:
  May (Hsi-Chen) Lee\, Lindsay BrowneWettbewerbsprogramm: Erzählfilme von
  StudierendenGenre: Drama\, Mysteriös\, Thriller\, Krimi\, ActionTechnik:
  3D ComputerAltersgrenze: 12+Synopsis:Jacque\, ein fleißiger Page des
  extravaganten Hotels L’infini\, wird von einemnachdenklichen Detektiv
  auf frischer Tat ertappt\, der ihn durch das Hotel jagt.\nBalconada
  (Балконада) (Bulgarien\, 2025\, 8:18)Regie: Iva
  TokmakchievaWettbewerbsprogramm: DebütGenre: Künstlerisch\, Komödie\,
  Schwarzer Humor\, FantasyTechnik: 2D/TraditionellAltersgrenze:
  12+Synopsis:Ein heißer Sommertag lockt mehrere Nachbarn auf ihre
  Balkone. Als ein willkommenerRegenschauer alle aus ihrer Trägheit
  weckt\, findet einer von ihnen einen Weg\, sie allewieder miteinander und
  mit dem gegenwärtigen Moment zu verbinden.\nWith each passing day (A
  Cada Dia Que Passa) / Mit jedem Tag (Portugal\, 2024\, 10:55)Regie:
  Emanuel NevadoWettbewerbsprogramm: LiebesgeschichteGenre:
  AbenteuerTechnik: Stop-motionAltersgrenze: 12+Synopsis:D. Piedade ist
  eine alte Maus\, die in einem kleinen Dorf im gebirgigen
  HinterlandPortugals lebt. Ihr Dasein besteht hauptsächlich aus
  Einsamkeit und Erinnerungen undeiner eingefahrenen Routine\, die vom
  regelmäßigen Rhythmus der Uhr und dem Tee\,den sie mit ihren
  Freundinnen\, zwei Schwestern\, die im selben Dorf leben\,
  trinkt\,bestimmt wird.Die Eintönigkeit dieser Routine weckt in D.
  Piedade den Wunsch\, sie zu durchbrechen.Mit Hilfe einer starken
  Erinnerung\, die sie zum Handeln antreibt\, kehrt sie dorthinzurück\, wo
  sie glücklich war\, in der Hoffnung\, eine Art neues Glück
  wiederzufinden.\nUnder the shell\, a world (Sous la carapace\, un monde)
  / Unter der Schale\, eine Welt(Frankreich\, 2025\, 5:58)Regie: Malory
  Silvestre\, Laure Freyermuth-RiouWettbewerbsprogramm: Musikalische
  MotiveGenre: Künstlerisch\, Abenteuer\, MusikvideoTechnik: Stop-motion\,
  PuppenAltersgrenze: 12+Synopsis:In der unendlichen Weite der Wüste
  bewegt sich eine einsame Schildkröte beharrlichvorwärts\, durch Tage\,
  Nächte und Stürme hindurch. Seine Reise wird auf unerwarteteWeise ihre
  ganze Bedeutung erhalten…\nFilme am 29.11.Earth coal (Charbon de terre)
  / Erdkohle (Frankreich\, 2024\, 12:51)Regie: Bastien
  DupriezWettbewerbsprogramm: ErzählfilmeGenre: Experimentell\,
  DokumentarfilmTechnik: Kohle\, Acrylfarbe\, 35-mm-Film\,
  HolzAltersgrenze: 12+Synopsis:Auf dem Lande\, in den Bergwerken und
  Fabriken scheinen diese Männer von einst diegleichen Sorgen zu haben.
  Irgendetwas scheint in uns heute mitzuschwingen\, vielleichtist es nur
  eine Illusion\, vielleicht ist es auch nur die Bescheidenheit des
  Alltagslebens.\nThe Night Boots (Les Bottes de la Nuit) / Die
  Nachtstiefel (Frankreich\, 2024\, 12:21)Regie: Pierre-Luc
  GranjonWettbewerbsprogramm: ErzählfilmeGenre: Märchen\, Fantasy\,
  Mysteriös\, AbenteuerTechnik: PinscreenAltersgrenze: 6+Synopsis:Während
  seine Eltern Freunde empfangen\, verlässt ein Kind mitten in der Nacht
  dasHaus und begibt sich mit Gummistiefeln ins Unterholz. Dort wird es von
  einemseltsamen Tier\, das neugierig und einsam ist\, in das Herz des
  Waldes geführt\, um diedort lebenden Nachtwesen zu treffen\, und um
  nicht wieder allein zu sein\, wird esversuchen\, die Abreise des Kindes
  so lange wie möglich hinauszuzögern.\nHAG (Deutschland\, 2025\,
  5:00)Regie: Isabella MarquartWettbewerbsprogramm: Bizarre Animation von
  StudierendenGenre: Experimentell\, MärchenTechnik: 2D/Traditionell\, 2D
  Computer\, Stop-motion\, Cell\, Cut-outsAltersgrenze: 12+Synopsis:In
  einer zyklischen Erzählung folgt der Film der abjekten\, fließenden
  Natur der Hexe\, diedie Grenzen von Form und Identität sprengt.
  Inspiriert von den vielen Kronen derFolklore\, wandert sie zwischen den
  Welten und wird so schwer fassbar wie der Filmselbst.\nDream / Traum
  (Griechenland\, 2025\, 4:58)Regie: Semiramis MamataWettbewerbsprogramm:
  Bizarre AnimationGenre: Surrealismus\, Komödie\, Schwarzer Humor\,
  Drama\, Märchen\, Fantasy\, AbenteuerTechnik: 2D/Traditionell\, 2D
  ComputerAltersgrenze: 12+Synopsis:Inspiriert von Paul Éluards Gedicht
  Homme Utile\, ist DREAM eine magische\, visuellreiche Flucht aus der
  Realität. Wenn das Gewicht der Welt unerträglich wird\, driftet
  einmenschliches Wesen in eine surreale Traumwelt\, in der die Farben
  blühen und die Logikverblasst.\nStampfer dreams / Stampfers Träume
  (Österreich\, 2024\, 11:50)Regie: Thomas RenoldnerWettbewerbsprogramm:
  Bizarre AnimationGenre: Experimentell\, Künstlerisch\, Dokumentarfilm\,
  WissenschaftTechnik: 2D ComputerAltersgrenze: 12+Synopsis:STAMPFER DREAMS
  ist eine Hommage an den Wissenschaftler Simon von Stampfer\, der1833 in
  Wien seine Erfindung der Stroboskopischen Scheiben vorstellte. Diese
  Scheibenzeigen alle Arten von animierten Loops\, von abstrakt bis
  figurativ und von (buchstäblich)experimentell bis dokumentarisch\, und
  geben so einen Ausblick auf die Vielfalt derGenres im Animationsfilm.
  Alle Charaktere und Animationssequenzen in STAMPFERDREAMS sind diesen
  „optischen Zauberscheiben“ entnommen bzw. basieren auf ihnen.Der Film
  beginnt in der Alpenregion von Simons Kindheit und folgt vage seiner
  Biografie.Drei „Träume“ schildern seine Vorstellung von der weiteren
  Entwicklung derMenschheit\, mit einer Wassermühle als Ausgangspunkt für
  eine industrielle Revolution\,die schließlich zu unserer Gegenwart
  führen wird.\nThe Shortest Relationship in the World
  (一场世界上最短的恋爱) / Die kürzesteBeziehung der Welt
  (China\, 2024\, 1:28)Regie: Xiaoxuan HanWettbewerbsprogramm:
  LiebesgeschichteGenre: Liebesgeschichte\, FantasyTechnik: 2D
  ComputerAltersgrenze: 12+Synopsis:Das könnte die kürzeste Beziehung der
  Welt sein.\nTides (Plimovanje) / Gezeiten (Slowenien\, 2024\, 3:16)Regie:
  Živa DivjakWettbewerbsprogramm: LiebesgeschichteGenre: Abstrakt\,
  Melodrama\, LiebesgeschichteTechnik: 2D ComputerAltersgrenze:
  12+Synopsis:Die Beziehung eines jungen Paares wird durch ihr Ringen um
  Kommunikation auf dieProbe gestellt. Vor der Kulisse sich verändernder
  Gewässer erkundet der Film ihre Reisedurch Konflikte\, emotionale
  Barrieren und Momente der Versöhnung und gipfelt ineiner Erzählung\,
  die auf ruhigen blauen Gewässern beginnt und endet.\nLong Distance
  (Longue Distance) / Fernbeziehung (Frankreich\, 2025\, 8:17)Regie: Iulia
  VoitovaWettbewerbsprogramm: LiebesgeschichteGenre: Experimentell\,
  Liebesgeschichte\, WissenschaftTechnik: Cut-outs\, GemischtAltersgrenze:
  12+Synopsis:Eine Astronautin bereitet sich auf einen Flug ins Weltall
  vor\, und ein Taucher taucht indie Tiefe ab.\nFar\, far away/ Ganz weit
  weg (Deutschland\, 2024\, 8:26)Regie: Anna-Sophia Rosa
  StrittmatterWettbewerbsprogramm: Erzählfilme von StudierendenGenre:
  DramaTechnik: 2D ComputerAltersgrenze: 12+Synopsis:Maditha will in den
  Ferien zu ihrem Opa fliegen. Aber Elsa hat keine Zeit dafür\, weil
  siejeden Tag in ein Loch hinuntersteigt\, über das Maditha nur laufen
  kann. Elsa sagt nie\,was dort unten ist\, aber sie fühlt sich immer
  schlechter – sie beachtet Maditha immerweniger\, isst nicht mehr\,
  bleibt länger weg und hat immer weniger Platz in ihremZimmer\, je
  größer das Loch wird. Als Maditha Elsa sogar im Alltag helfen
  muss\,beschließt sie\, alles zu entfernen\, was sie in dem Loch zu
  belasten scheint. Sie klettert inden Rucksack\, den Elsa immer mitnimmt\,
  und findet ihren sterbenden Großvater.\nMurex (Russische Föderation\,
  2024\, 6:46)Regie: Marianna GrigorovaWettbewerbsprogramm: Erzählfilme
  von StudierendenGenre: DramaTechnik: 2D/TraditionellAltersgrenze:
  12+Synopsis:In dieser Geschichte geht es um das menschliche Drama\, um
  Liebe und Verlust. Wie oftein Mensch nicht in der Lage ist\, zu retten\,
  was das Schicksal ihm gibt. Der Film basiertauf den Werken von Ray
  Bradbury.\nOn Weary Wings Go By (Linnud läinud) / Die Vögel sind weg
  (Estland\, Litauen\, 2024\,10:34)Regie: Anu-Laura
  TuttelbergWettbewerbsprogramm: Bizarre AnimationGenre: Experimentell\,
  Drama\, MärchenTechnik: Stop-motionAltersgrenze: 12+Synopsis:Ein
  winterliches Gedicht über die nordische Natur. Die Sonne steht tief und
  die Tagewerden kürzer. Vögel fliegen in den Süden\, Porzellantiere und
  Insekten verstecken sichvor dem eisigen Wind und dem Schnee. Nur ein
  kleines Porzellanmädchen wandertdurch die verlassene Landschaft\, aus
  der es keinen Ausweg gibt.\nThis is not your Garden (Este no es tu
  jardín) / Das ist nicht dein Garten (Kolumbien\,2025\, 12:53)Regie:
  Carlos Velandia\, Angélica RestrepoWettbewerbsprogramm: Bizarre
  AnimationGenre: Experimentell\, Abstrakt\, Künstlerisch\,
  DokumentarfilmTechnik: 2D Computer\, 3D ComputerAltersgrenze:
  12+Synopsis:Verwurzelt in Feuchtgebieten\, Páramos und hundertjährigen
  Wäldern\, die kurz vor demVerschwinden stehen\, prallen Erinnerungen und
  eine vermutete Zukunft aufeinander.500 Jahre Ausbeutung\, Exil und
  Widerstandsfähigkeit werden von einem kollektivenSchmerz und dem Wunsch
  genährt\, all das zu überwinden.\nSoil / Boden (Hongkong\, 2025\,
  3:47)Regie: Yina Hong\, Yiwei Zhou\, Shengtao Hong\, Joyce
  GaoWettbewerbsprogramm: Bizarre Animation von StudierendenGenre:
  Experimentell\, Abstrakt\, Surrealismus\, Künstlerisch\, Musikvideo\,
  MusikfilmTechnik: 2D Computer\, Künstliche IntelligenzAltersgrenze:
  12+Synopsis:SOIL ist eine psychedelische Pilgerreise durch die abstrakte
  Realität\, bei der sich dieEnergie des Clubs mit traumhaften visuellen
  Szenen vermischt. Der Film ist rasant undchaotisch und verzerrt die
  Bilder der realen Welt in surreale Animationen\, die die innereReise
  eines Individuums visualisieren\, während es die absteigenden physischen
  undemotionalen Effekte durchquert – die Wellen von Licht und Ton\, die
  sich auflösen undwiedergeboren werden.\nI’m Leaving (Je Pars) / Ich
  gehe weg (Deutschland\, 2025\, 3:47)Regie: Michelle
  BrandWettbewerbsprogramm: Musikalische MotiveGenre: Experimentell\,
  Abstrakt\, Surrealismus\, Künstlerisch\, MusikvideoTechnik:
  2D/Traditionell\, 2D Computer\, 3D ComputerAltersgrenze: 12+Synopsis:Wenn
  die Nacht hereinbricht\, beginnt die Reise. Das Rennen\, das Rasen\, das
  Hetzen.Ungebunden von der Zeit und mitgerissen von der surrealen
  Lichterkaskade der Nacht\,lassen wir den Alltag hinter
  uns\n\nhttps://kinemathek-karlsruhe.de/film/t-short-animationsfilme/
LOCATION:Kinemathek\, Kaiserpassage 6 76133 Karlsruhe
GEO:49.010608500000004;8.396970535255974
ORGANIZER:mailto:Kinemathek
END:VEVENT
END:VCALENDAR
