BEGIN:VCALENDAR
VERSION:2.0
PRODID:karlsunruh.org
METHOD:REQUEST
BEGIN:VEVENT
UID:d6d0200a-3cc9-44d6-adb1-bcba73479c33
URL:https://karlsunruh.org/event/d6d0200a-3cc9-44d6-adb1-bcba73479c33
SUMMARY:The Bomb
DTSTART:20260123T180000Z
DTEND:20260123T200000Z
CATEGORIES:Film\,Sonstiges
DESCRIPTION:The Bomb ist eine von Kritikern hochgelobte immersive Film-\,
  Musik- und Kunstinstallation\, die das Publikum in den Mittelpunkt der
  Geschichte der Atomwaffen rückt. Sie untersucht deren immense Kraft\,
  ihre verführerische Anziehungskraft und den existenziellen Todestrieb\,
  der ihnen innewohnt. Durch die Verschmelzung von Archivmaterial\,
  Animation\, Musik und Text schafft The Bomb ein viszerales\,
  nicht-lineares Erlebnis\, das über die konventionelle Dokumentarfilmform
  hinausgeht und die Zuschauer dazu einlädt\, sich mit den psychologischen
  und kulturellen Dimensionen des Atomzeitalters auseinanderzusetzen.\nIm
  Mittelpunkt des Projekts steht der Spielfilm\, der die Geschichte der
  Atomwaffen nicht mit einer konventionellen Erzählung\, sondern mit
  Emotionen\, Rhythmus und Bildern neu interpretiert. Durch die Kombination
  von Archivmaterial\, Animation\, Musik und Text schafft der Film ein
  immersives audiovisuelles Erlebnis\, das zwischen Ehrfurcht und
  Schrecken\, Intimität und Größe oszilliert.\nMit Vortrag von Stefan
  Lau.\n\nhttps://kinemathek-karlsruhe.de/film/the-bomb/
LOCATION:Kinemathek\, Kaiserpassage 6 76133 Karlsruhe
GEO:49.010608500000004;8.396970535255974
ORGANIZER:mailto:Kinemathek
END:VEVENT
END:VCALENDAR
