BEGIN:VCALENDAR
VERSION:2.0
PRODID:karlsunruh.org
METHOD:REQUEST
BEGIN:VEVENT
UID:d7da0a73-8106-4f58-ae83-35655fe844ac
URL:https://karlsunruh.org/event/d7da0a73-8106-4f58-ae83-35655fe844ac
SUMMARY:Beyond the Infinite Two Minutes
DTSTART:20260425T180000Z
DTEND:20260425T200000Z
CATEGORIES:Film\,Sonstiges
DESCRIPTION:Café-Inhaber Kato entdeckt\, dass der Fernseher in seinem
  Laden und sein Computermonitor in der Wohnung darüber durch eine
  Zeitverschiebung verbunden sind. Mit Hilfe dieser Schaltung kann man in
  die Zukunft schauen – allerdings nur für zwei Minuten. Katos
  verrückte Freunde setzen alles daran\, dieses revolutionäre Phänomen
  für ihre Zwecke zu nutzen. Die Konsequenzen sind verblüffend und
  keinesfalls ungefährlich.\nDie verrückteste Science-Fiction-Komödie
  der letzten Jahre und zudem genial inszeniert: Die wahnwitzige
  Zeitreisegeschichte wird ohne Schnitte und in Echtzeit
  erzählt.Veranstaltung in Kooperation mit vhs
  Karlsruhe.\n\nhttps://kinemathek-karlsruhe.de/film/beyond-the-infinite-tw
 o-minutes/
LOCATION:Kinemathek\, Kaiserpassage 6 76133 Karlsruhe
GEO:49.010608500000004;8.396970535255974
ORGANIZER:mailto:Kinemathek
END:VEVENT
END:VCALENDAR
