BEGIN:VCALENDAR
VERSION:2.0
PRODID:karlsunruh.org
METHOD:REQUEST
BEGIN:VEVENT
UID:d860a46a-354f-404c-aa20-642f590e149d
URL:https://karlsunruh.org/event/d860a46a-354f-404c-aa20-642f590e149d
SUMMARY:KONZERT: The Lombego Surfers
DTSTART:20260911T180000Z
CATEGORIES:Konzert\,Kultur
DESCRIPTION:Fr\, 11.09.2026\nKONZERT: The Lombego Surfers\nKonzert
  präsentiert von SAU e.V.\nEinlass: 20:00 Uhr | Beginn: 21:00
  Uhr\n\n\nTrends spülen viele Rockbands nur ans Land\, um sie mit der
  nächsten Welle zu ertränken. Nicht so die Lombego Surfers. Seit 1989
  reiten die drei Recken aus Boston und Basel mittlerweile durch Europa.
  Strömungen lassen sie kalt. Sie folgen nur den Freibeuterflaggen\, die
  ihnen Dirk Bonsma auf die Knochen zeichnet. Wo sie anlegen\, lockt zwar
  meist kein Gold. Ein Fass Rum\, Whisky oder Bier reicht dem Trio jedoch
  zum Anzetteln einer deftigen Surf’n’Roll-Meuterei. Zu
  schweisstreibend\, rau und dreckig? Go eat shit and die!\nMit Gitarre\,
  Bass und Schlagzeug entern sie Stadt um Land\, weshalb ihnen die Presse
  unlängst Titel wie «Legenden der Leidenschaft» oder «The Gods of the
  Underground» verlieh. Uuhhhhh\, spooky – aber nicht unverdient. Just
  in Zeiten wo andere Kultbands wie Dead Moon die Segel streichen\, gewinnt
  die Mission der Lombegos an Wichtigkeit: Keep it real and stripped down
  to the bones!\nDas neue Album „The High Side“ kam 2022 auf den Markt!
LOCATION:Alte Hackerei\, Alter Schlachthof 11a\, 76131 Karlsruhe
GEO:49.0055385;8.4291958
ORGANIZER:mailto:Alte Hackerei
END:VEVENT
END:VCALENDAR
