BEGIN:VCALENDAR
VERSION:2.0
PRODID:karlsunruh.org
METHOD:REQUEST
BEGIN:VEVENT
UID:da69b6b5-039d-417f-ad38-b70c08e832ec
URL:https://karlsunruh.org/event/da69b6b5-039d-417f-ad38-b70c08e832ec
SUMMARY:Einführungsworkshop: Awarenessarbeit
DTSTART:20260207T153000Z
DTEND:20260207T170000Z
CATEGORIES:Sonstiges\,Queerfeminismus
DESCRIPTION:queerKAstle soll ein Safer Space sein! Du möchtest dazu
  beitragen und das\nqueerKAstle Awareness-Team dabei
  unterstützen?\n\nDann komm am 07. Februar 2026 von 16.30 - 18 Uhr zu
  unserem\nEinführungsworkshop. Anmeldung ist erforderlich.\n\nDann lerne
  in dieser ersten Einführung wichtige Basics der ehrenamtlichen\nArbeit
  kennen. Du bekommst Infos zu Theorie und Haltung von
  Awareness\,\nPrävention und Reflexion\, aber auch erste Strategien und
  Erfahrungswerte aus\nder Praxis als Anlaufstelle für Menschen\, die im
  Rahmen der queeren\nVereinsarbeit verletzende Erfahrungen machen
  mussten.\n\nIm Bewusstsein („Awareness") für Grenzen und Bedürfnisse
  arbeiten wir\ngemeinsam daran\, queerKAstle zu einem möglichst sicheren
  Ort für alle zu\nmachen.\n\nDiese Einführung ist speziell auf die
  Awareness-Arbeit im queeren Zentrum\nausgerichtet. Wir schulen
  Interessierte\, die sich nach Hospitationen und mit\nregelmäßiger
  Begleitung durch erfahrene Mitglieder des Awareness-Teams\nvorstellen
  können\, in den Räumen des Zentrums und bei (externen)\nVeranstaltungen
  die ehrenamtliche Awareness-Arbeit zu unterstützen.\n\nDie Plätze sind
  begrenzt. Wir bitten daher um eine Anmeldung per Mail bis\n31.01.26 an:
  awareness@queerkastle.de\n\nFragen? Schreib uns an
  awareness@queerkastle.de\nhttps://queerkastle.de/veranstaltung/einfuehrun
 gsworkshop-awareness/
LOCATION:queerKAstle - Karlsruher Zentrum für queere Vielfalt\,
  Liebigstraße 10-12\, 76135 Karlsruhe
GEO:49.0041532;8.37001
ORGANIZER:mailto:queerKAstle
END:VEVENT
END:VCALENDAR
