BEGIN:VCALENDAR
VERSION:2.0
PRODID:karlsunruh.org
METHOD:REQUEST
BEGIN:VEVENT
UID:daa90c13-83f4-4871-ba15-471ae6719ade
URL:https://karlsunruh.org/event/daa90c13-83f4-4871-ba15-471ae6719ade
SUMMARY:"Eating Our Way to Extinction" - aus der Filmreihe Klima | Krisen |
  Utopien
DTSTART:20250528T170000Z
DTEND:20250528T190000Z
CATEGORIES:Film\,Klimagerechtigkeit
DESCRIPTION:Der Film erzählt die Geschichte unseres Planeten mit
  ergreifenden Berichten indigener Menschen\, die am stärksten von der
  Umweltzerstörung betroffen sind und Gesprächen mit weltweit bekannten
  Persönlichkeiten und führenden Wissenschaftler:innen. Erzählt von
  Oscar-Preisträgerin Kate Winslet\, sendet er eine einfache\, aber
  wirkungsvolle Botschaft\, indem er das dringendste Problem unserer Zeit
  behandelt – den ökologischen Kollaps.\n\n„Eating Our Way to
  Extinction“ verbreitet eine Botschaft der Hoffnung\, die Menschen
  weltweit Mut machen kann. Nach dem Film Gespräch mit der Gruppe
  „Vegans für Future“ und es werden vegane Häppchen gereicht.\n\nDer
  Film wird in der Reihe Klima | Krisen | Utopien gezeigt.
ORGANIZER:mailto:Kinemathek,Vegans For Future Karlsruhe
END:VEVENT
END:VCALENDAR
