BEGIN:VCALENDAR
VERSION:2.0
PRODID:karlsunruh.org
METHOD:REQUEST
BEGIN:VEVENT
UID:dbdf9d55-01b6-4df8-8cb3-5087aababbda
URL:https://karlsunruh.org/event/dbdf9d55-01b6-4df8-8cb3-5087aababbda
SUMMARY:Anmeldung-Schluss: Crashkurs: Lithium-Abbau\, Kreislaufwirtschaft
  und die Zukunft der Rohstoffpolitik
DTSTART:20260504T080000Z
DTEND:20260504T100000Z
CATEGORIES:Workshop\,Klimagerechtigkeit
DESCRIPTION:Crashkurs: Lithium-Abbau\, Kreislaufwirtschaft und die Zukunft
  der Rohstoffpolitik\, organisiert von Powershift findet Mo.\, 8. Juni
  2026 bis bis Di.\, 9. Juni 2026 in der Kulturküche in Karlsruhe statt.
  \n\nAnmeldung bis zum 04. Mai 2026\nWir bitten um eine kurze Bewerbung
  mit Name und ggf. Organisation (Partei/ NGO/ Medium) und Motivation zur
  Crashkurs-Teilnahme hier im Anmeldeformular unter
  \n\nhttps://power-shift.de/termin/crashkurs-gerechte-rohstoffpolitik/\n\n
 Beschreibung:\nVom Oberrhein über Argentinien bis nach Simbabwe –
  Lithium-Abbau\, Kreislaufwirtschaft und die Zukunft der
  Rohstoffpolitik\n\nGemeinsam mit dem Netzwerk Rohstoffgerechtigkeit
  Baden-Württemberg und weiteren Partner*innen beleuchten wir die
  sozialen\, ökologischen und menschenrechtlichen Dimensionen des
  Lithiumabbaus – von den Salzseen in Argentinien\, Bolivien und Chile
  über Simbabwe bis zum Oberrheingraben vor unserer Haustür.\nVulcan
  Energy erschließt mit seinem Lionheart-Projekt heimische
  Lithiumvorkommen und steht dabei exemplarisch für die Fragen\, die uns
  in der Rohstoffwende beschäftigen:\n\n    Welche Rohstoffbedarfe hat
  Baden-Württemberg?\n    Welche Verantwortung entsteht entlang globaler
  Wertschöpfungsketten?\n    Wie können Kreislaufwirtschaft und Reduktion
  als Eckpfeiler einer Rohstoffwende gedacht und umgesetzt werden?\n\nNeben
  Inputs aus Wissenschaft und Zivilgesellschaft – u.a. zu den
  Implikationen des EU Critical Raw Materials Act – besuchen wir das
  Lionheart-Projekt vor Ort und diskutieren\, wie im demokratischen Dialog
  Konflikte minimiert und entwicklungspolitische mit lokalen Perspektiven
  zusammengebracht werden können. Dies bietet Multiplikator*innen aus
  Politik\, Gewerkschaften\, sozialen Bewegungen und Zivilgesellschaft die
  Möglichkeit\, sich zu vernetzen und gemeinsam Handlungsansätze für
  eine gerechte Rohstoffpolitik zu entwickeln.\n\nVeranstaltungsreihe in
  Karlsruhe:\n\nMontag\, 1.Juni –
  Online-Einführungsveranstaltung\,\n\nMontag & Dienstag\, 8. und 9.
  Juni\, Karlsruhe\n\nTeilnahmebeitrag 50€ (für Organisationen 100€)
  inkl. Verpflegung & einer Übernachtung. Es soll nicht am Geld scheitern
  (bitte im Zweifel bei helen.levine@power-shift.de
  melden).\n\nOrganisation: PowerShift e.V. Kontakt: Helen Levine\,
  PowerShift e.V.\, helen.levine@power-shift.de\n\n\n
LOCATION:Kulturküche
END:VEVENT
END:VCALENDAR
