BEGIN:VCALENDAR
VERSION:2.0
PRODID:karlsunruh.org
METHOD:REQUEST
BEGIN:VEVENT
UID:de2d62bd-028a-4dd2-9a59-f3bcaf6d6126
URL:https://karlsunruh.org/event/de2d62bd-028a-4dd2-9a59-f3bcaf6d6126
SUMMARY:Antikapitalistisches Klimatreffen
DTSTART:20251223T180000Z
DTEND:20251223T200000Z
CATEGORIES:Treffen\,Klimagerechtigkeit
DESCRIPTION:Wir sind ein offenes Treffen\, das sich dem Kampf für eine
  klimagerechte Welt verschrieben hat. Mit vielfältigen Aktionsformen
  wollen wir dem umweltzerstörerischen Kapital und politischer
  Augenwischerei entgegentreten. Wir sind davon überzeugt\, das eine
  wirkliche Veränderung nur erreicht werden kann\, wenn sie aktiv von
  unten gestaltet wird.\nAktuell treffen wir uns jeden 4. Dienstag im Monat
  zu gemeinsamer Diskussion\, Austausch und Planung. Mit der Klimakneipe\,
  die jeden 2. Samstag im Monat stattfindet wollen wir der Karlsruher
  Klimabewegung einen Raum zu gemeinsamem Austausch bieten . 
LOCATION:Barrio 137\, Luisenstraße 31\, 76137 Karlsruhe
GEO:49.00084565;8.405520455565298
ORGANIZER:mailto:Antikapitalistisches Klimatreffen
END:VEVENT
END:VCALENDAR
